BEGIN:VCALENDAR
VERSION:2.0
PRODID:-//TransMann e.V.® - ECPv6.15.20//NONSGML v1.0//EN
CALSCALE:GREGORIAN
METHOD:PUBLISH
X-WR-CALNAME:TransMann e.V.®
X-ORIGINAL-URL:https://transmann.de
X-WR-CALDESC:Veranstaltungen für TransMann e.V.®
REFRESH-INTERVAL;VALUE=DURATION:PT1H
X-Robots-Tag:noindex
X-PUBLISHED-TTL:PT1H
BEGIN:VTIMEZONE
TZID:Europe/Berlin
BEGIN:DAYLIGHT
TZOFFSETFROM:+0100
TZOFFSETTO:+0200
TZNAME:CEST
DTSTART:20220327T010000
END:DAYLIGHT
BEGIN:STANDARD
TZOFFSETFROM:+0200
TZOFFSETTO:+0100
TZNAME:CET
DTSTART:20221030T010000
END:STANDARD
BEGIN:DAYLIGHT
TZOFFSETFROM:+0100
TZOFFSETTO:+0200
TZNAME:CEST
DTSTART:20230326T010000
END:DAYLIGHT
BEGIN:STANDARD
TZOFFSETFROM:+0200
TZOFFSETTO:+0100
TZNAME:CET
DTSTART:20231029T010000
END:STANDARD
BEGIN:DAYLIGHT
TZOFFSETFROM:+0100
TZOFFSETTO:+0200
TZNAME:CEST
DTSTART:20240331T010000
END:DAYLIGHT
BEGIN:STANDARD
TZOFFSETFROM:+0200
TZOFFSETTO:+0100
TZNAME:CET
DTSTART:20241027T010000
END:STANDARD
END:VTIMEZONE
BEGIN:VEVENT
DTSTART;TZID=Europe/Berlin:20231219T190000
DTEND;TZID=Europe/Berlin:20231219T210000
DTSTAMP:20260419T150753
CREATED:20230217T134557Z
LAST-MODIFIED:20231218T143249Z
UID:10003981-1703012400-1703019600@transmann.de
SUMMARY:TM e.V. - Gruppentreffen der RG Paderborn - 19.12.2023
DESCRIPTION:Das Treffen findet heute im „Sputnik“ in der Imadstraße 7 in Paderborn statt.\nIm „Orbit“ ist Raum und Zeit für ein einen informativen Austausch. \nThemenvorschlag: Offener Austausch \nJede*r\,  kann daran teilnehmen\, eine Mitgliedschaft im Verein ist nicht zwingend notwendig. \nBen und York\, unsere Paderborner Regionalgruppenleiter\,  freuen sich auf euch! \nAchtung: Kurzfristige Änderungen behalten wir uns vor!
URL:https://transmann.de/veranstaltung/tm-e-v-gruppentreffen-der-rg-paderborn-19-12-2023/
LOCATION:Sputnik\, Imadstraße 7\, Paderborn\, 33102\, Deutschland
CATEGORIES:Gruppentreffen einer Regionalgruppe,Veranstaltung des TransMann e.V.
ATTACH;FMTTYPE=image/png:https://transmann.de/wp-content/uploads/2020/06/Stempel-RG_Paderborn.png
ORGANIZER;CN="TransMann e.V. Regionalgruppe Paderborn":MAILTO:paderborn@transmann.de
GEO:51.7181427;8.7458694
X-APPLE-STRUCTURED-LOCATION;VALUE=URI;X-ADDRESS=Sputnik Imadstraße 7 Paderborn 33102 Deutschland;X-APPLE-RADIUS=500;X-TITLE=Imadstraße 7:geo:8.7458694,51.7181427
END:VEVENT
BEGIN:VEVENT
DTSTART;TZID=Europe/Berlin:20231121T190000
DTEND;TZID=Europe/Berlin:20231121T210000
DTSTAMP:20260419T150753
CREATED:20230217T134526Z
LAST-MODIFIED:20231121T113548Z
UID:10003970-1700593200-1700600400@transmann.de
SUMMARY:TM e.V. - Gruppentreffen der RG Paderborn - 21.11.2023 - Achtung! Geänderter Ort
DESCRIPTION:ACHTUNG! Das heutige Live-Treffen findet an einem anderen Ort statt und erst ab 19 Uhr! \nWir treffen uns um 19 Uhr im Sputnik (im Raum Orbit)\, Imadstraße 7\, 33102 Paderborn! \n\nThemenvorschlag: Offener Austausch \nJede*r\,  kann daran teilnehmen\, eine Mitgliedschaft im Verein ist nicht zwingend notwendig. \nBen und York\, unsere Paderborner Regionalgruppenleiter\,  freuen sich auf euch! \nAchtung: Kurzfristige Änderungen behalten wir uns vor!
URL:https://transmann.de/veranstaltung/tm-e-v-gruppentreffen-der-rg-paderborn-21-11-2023/
LOCATION:Sputnik\, Imadstraße 7\, Paderborn\, 33102\, Deutschland
CATEGORIES:Gruppentreffen einer Regionalgruppe,Veranstaltung des TransMann e.V.
ATTACH;FMTTYPE=image/png:https://transmann.de/wp-content/uploads/2020/06/Stempel-RG_Paderborn.png
ORGANIZER;CN="TransMann e.V. Regionalgruppe Paderborn":MAILTO:paderborn@transmann.de
GEO:51.7181427;8.7458694
X-APPLE-STRUCTURED-LOCATION;VALUE=URI;X-ADDRESS=Sputnik Imadstraße 7 Paderborn 33102 Deutschland;X-APPLE-RADIUS=500;X-TITLE=Imadstraße 7:geo:8.7458694,51.7181427
END:VEVENT
BEGIN:VEVENT
DTSTART;TZID=Europe/Berlin:20231017T190000
DTEND;TZID=Europe/Berlin:20231017T210000
DTSTAMP:20260419T150753
CREATED:20230217T134439Z
LAST-MODIFIED:20231017T074518Z
UID:10003980-1697569200-1697576400@transmann.de
SUMMARY:TM e.V. - Gruppentreffen der RG Paderborn - 17.10.2023 - Achtung geänderter Ort!
DESCRIPTION:ACHTUNG! Das heutige Live-Treffen findet an einem anderen Ort statt und erst ab 19 Uhr! \nWir treffen uns um 19 Uhr im Sputnik (im Raum Orbit)\, Imadstraße 7\, 33102 Paderborn! \n  \nThemenvorschlag: Offener Austausch \nJede*r\,  kann daran teilnehmen\, eine Mitgliedschaft im Verein ist nicht zwingend notwendig. \nBen und York\, unsere Paderborner Regionalgruppenleiter\,  freuen sich auf euch! \nAchtung: Kurzfristige Änderungen behalten wir uns vor!
URL:https://transmann.de/veranstaltung/tm-e-v-gruppentreffen-der-rg-paderborn-17-10-2023/
LOCATION:Sputnik\, Imadstraße 7\, Paderborn\, 33102\, Deutschland
CATEGORIES:Gruppentreffen einer Regionalgruppe,Veranstaltung des TransMann e.V.
ATTACH;FMTTYPE=image/png:https://transmann.de/wp-content/uploads/2020/06/Stempel-RG_Paderborn.png
ORGANIZER;CN="TransMann e.V. Regionalgruppe Paderborn":MAILTO:paderborn@transmann.de
GEO:51.7181427;8.7458694
X-APPLE-STRUCTURED-LOCATION;VALUE=URI;X-ADDRESS=Sputnik Imadstraße 7 Paderborn 33102 Deutschland;X-APPLE-RADIUS=500;X-TITLE=Imadstraße 7:geo:8.7458694,51.7181427
END:VEVENT
END:VCALENDAR