BEGIN:VCALENDAR
VERSION:2.0
PRODID:-//TransMann e.V.® - ECPv6.15.20//NONSGML v1.0//EN
CALSCALE:GREGORIAN
METHOD:PUBLISH
X-WR-CALNAME:TransMann e.V.®
X-ORIGINAL-URL:https://transmann.de
X-WR-CALDESC:Veranstaltungen für TransMann e.V.®
REFRESH-INTERVAL;VALUE=DURATION:PT1H
X-Robots-Tag:noindex
X-PUBLISHED-TTL:PT1H
BEGIN:VTIMEZONE
TZID:Europe/Berlin
BEGIN:DAYLIGHT
TZOFFSETFROM:+0100
TZOFFSETTO:+0200
TZNAME:CEST
DTSTART:20220327T010000
END:DAYLIGHT
BEGIN:STANDARD
TZOFFSETFROM:+0200
TZOFFSETTO:+0100
TZNAME:CET
DTSTART:20221030T010000
END:STANDARD
BEGIN:DAYLIGHT
TZOFFSETFROM:+0100
TZOFFSETTO:+0200
TZNAME:CEST
DTSTART:20230326T010000
END:DAYLIGHT
BEGIN:STANDARD
TZOFFSETFROM:+0200
TZOFFSETTO:+0100
TZNAME:CET
DTSTART:20231029T010000
END:STANDARD
BEGIN:DAYLIGHT
TZOFFSETFROM:+0100
TZOFFSETTO:+0200
TZNAME:CEST
DTSTART:20240331T010000
END:DAYLIGHT
BEGIN:STANDARD
TZOFFSETFROM:+0200
TZOFFSETTO:+0100
TZNAME:CET
DTSTART:20241027T010000
END:STANDARD
END:VTIMEZONE
BEGIN:VEVENT
DTSTART;TZID=Europe/Berlin:20230603T100000
DTEND;TZID=Europe/Berlin:20230603T130000
DTSTAMP:20260420T164359
CREATED:20230430T090444Z
LAST-MODIFIED:20230603T072526Z
UID:10004053-1685786400-1685797200@transmann.de
SUMMARY:Ordentliche Mitgliederversammlung des TransMann e.V. - 03.06.2023
DESCRIPTION:Liebe Mitglieder\, Förder*innen und Ehrenmitglieder\, \nwir laden Euch herzlichst zur ordentlichen Mitgliederversammlung inkl. Wahlen ein. \nWann?            Samstag\, den 03. Juni 2023 – 10:00 bis  max. 13:00 Uhr \nWo?    Online-Sitzung über MS Teams \nEingeladen sind alle Mitglieder\, Förder- und Ehrenmitgleider des bundesweiten Vereins TransMann e.V. an der Online-Veranstaltung teilzunehmen. \nAchtung die Teilnahme ist nur für Mitglieder des Vereins! \nTagesordnung der MV 2023 \n\nBegrüßung\nWahl des Protokollführers für die MV 2022 und der Wahlhelfer\nFeststellung der Beschlussfähigkeit\nVerlesung der Tagesordnung\nGeschäfts- und Kassenberichte der Vorstandschaft und der regionalen Gruppen\nAussprache über die Berichte\nEntlastung des Vorstandes\nVorstellung der Kandidaten zur Wahl des Vorstandes\nWahl des Vorstandes (Geschäftsführender und erweiterter Vorstand)\nWahl der/des Kassenprüfer*in für das Geschäftsjahr 2023\noffene Diskussion\nEnde der Mitgliederversammlung
URL:https://transmann.de/veranstaltung/ordentliche-mitgliederversammlung-des-transmann-e-v-03-06-2023/
LOCATION:online
CATEGORIES:Öffentliche Vorstandssitzung,Online-Veranstaltung,Veranstaltung des TransMann e.V.
ATTACH;FMTTYPE=image/jpeg:https://transmann.de/wp-content/uploads/2017/11/Transmann-Schriftzug_outline.jpg
ORGANIZER;CN="TransMann e.V.":MAILTO:vorstand@transmann.de
GEO:51.165691;10.451526
END:VEVENT
BEGIN:VEVENT
DTSTART;TZID=Europe/Berlin:20230223T193000
DTEND;TZID=Europe/Berlin:20230223T210000
DTSTAMP:20260420T164359
CREATED:20230219T111724Z
LAST-MODIFIED:20230219T111724Z
UID:10004047-1677180600-1677186000@transmann.de
SUMMARY:Fremdveranstaltung: CSD Insta Live - ein Jahr Krieg mit Sibylle von Tiedeman
DESCRIPTION:Ihr Lieben\, \nwer ihren Vortrag verpasst hat: Sibylle von Tiedemann\, Gründungsmitglied von Munich Kyiv Queer\, war kürzlich in der Ukraine\, um über den Krieg zu schreiben\, unsere Freund*innen zu besuchen und Spenden zu sammeln. Könnt Ihr hier nachlesen: \nhttps://munichkyivqueer.org/sibylles-fundreise-nach-kyjiw-mitten-im-krieg/#Sibylles%20Blog-Beitr%C3%A4ge \nIm Interview mit Frank Zuber vom CSD München wird sie am Donnerstag\, 23. Februar\, um 19.30 Uhr auf dem CSD-Instagram-Account über ihre Erlebnisse sprechen\, darüber\, wie es unseren Freund*innen in der Ukraine geht und wie wir helfen können. \nLGBTIQ* haben in diesem Krieg viel zu leiden. Wie viele haben sie ihre Arbeit\, ihr Zuhause\, ihre Familien und Freund*innen verloren\, aber als vulnerable Gruppe stehen sie vor besonderen Herausforderungen: So können sie sich nicht auf stabile Familienstrukturen verlassen\, ihr rechtlicher Status als Paar/Regenbogenfamilie wird nicht anerkannt\, sie werden täglich Opfer von Diskriminierung und Angriffen. Mehr darüber auf der Website unserer Partner-Organisation: \nhttps://munichkyivqueer.org/spenden-2/#Wie%20ist%20die%20Lage? \nSeid dabei\, wenn wir nächsten Donnerstag (23.02.2023) chatten – auf Instagram @munichkyivqueer. \nUnd helft\, wenn Ihr könnt: \nEINZELFALLHILFE Munich Kyiv Queer unterstützt mit einer eigenen\, privaten Spendenaktion über www.paypal.me/ConradBreyer Menschen in der Ukraine\, die Hilfe brauchen und nicht an queere Organisationen angebunden sind. Das ist direkt\, schnell und gebührenfrei\, wenn Ihr die Option „Geld an Familie & Freunde senden“ wählt. Wer kein PayPal hat\, kann alternativ an das Privatkonto von Conrad Breyer\, IBAN: DE42701500000021121454\, Geld schicken. \nHILFE FÜR LGBTIQ*-ORGANISATIONEN Wir haben zum Schutz von LGBTIQ* aus der Ukraine das Bündnis Queere Nothilfe Ukraine mitgegründet. Ihm gehören um die 40 LGBTIQ*-Organisationen in Deutschand an. Sie alle haben ganz unterschiedliche Kontakte in die Ukraine und sind bestens vernetzt mit Menschenrechtsorganisationen vor Ort\, die Gelder für die Versorgung oder Evakuierung queerer Menschen brauchen. Spendet hier \nFragen? www.MunichKyivQueer.org/helfen \nUNTERKUNFT FÜR QUEERE GEFLÜCHTETE AUS DER UKRAINE „Home is where the heart is“\, lautet ein englisches Sprichwort\, aber ein Herz alleine schafft noch keinen Wohnraum. Wir kümmern uns deshalb gemeinsam um Unterkünfte für queere Menschen. Wir mieten je nach Verfügbarkeit Zwei-\, Drei-\, Vier- oder Fünf-Zimmer-Wohnungen an und vermieten sie an Bedürftige in Form von Wohngemeinschaften weiter. Noch hat unser Verein keine Förderung\, deshalb sind wir auf Spenden angewiesen. Wir müssen zum Beispiel Mieten und Kautionen vorstrecken\, bis das Jobcenter einspringt. \nMünchner Bank eG\nIBAN DE16 7019 0000 0003 1425 66\nMunich Queer Homes e.V. \nFragen? https://munichkyivqueer.org/munich-queer-homes/ \nEuer CSD-Team \n#StandWithUkraine #QueererAktionsPlanBayernjetzt #csdmuc #munichpride
URL:https://transmann.de/veranstaltung/fremdveranstaltung-csd-insta-live-ein-jahr-krieg-mit-sibylle-von-tiedeman/
LOCATION:online
ATTACH;FMTTYPE=image/png:https://transmann.de/wp-content/uploads/2023/02/Insta-Live-Ein-Jahr-Krieg.png
ORGANIZER;CN="CSD M%C3%BCnchen":MAILTO:http://www.csdmuenchen.de
GEO:51.165691;10.451526
END:VEVENT
END:VCALENDAR