BEGIN:VCALENDAR
VERSION:2.0
PRODID:-//TransMann e.V.® - ECPv6.15.20//NONSGML v1.0//EN
CALSCALE:GREGORIAN
METHOD:PUBLISH
X-WR-CALNAME:TransMann e.V.®
X-ORIGINAL-URL:https://transmann.de
X-WR-CALDESC:Veranstaltungen für TransMann e.V.®
REFRESH-INTERVAL;VALUE=DURATION:PT1H
X-Robots-Tag:noindex
X-PUBLISHED-TTL:PT1H
BEGIN:VTIMEZONE
TZID:Europe/Berlin
BEGIN:DAYLIGHT
TZOFFSETFROM:+0100
TZOFFSETTO:+0200
TZNAME:CEST
DTSTART:20230326T010000
END:DAYLIGHT
BEGIN:STANDARD
TZOFFSETFROM:+0200
TZOFFSETTO:+0100
TZNAME:CET
DTSTART:20231029T010000
END:STANDARD
BEGIN:DAYLIGHT
TZOFFSETFROM:+0100
TZOFFSETTO:+0200
TZNAME:CEST
DTSTART:20240331T010000
END:DAYLIGHT
BEGIN:STANDARD
TZOFFSETFROM:+0200
TZOFFSETTO:+0100
TZNAME:CET
DTSTART:20241027T010000
END:STANDARD
BEGIN:DAYLIGHT
TZOFFSETFROM:+0100
TZOFFSETTO:+0200
TZNAME:CEST
DTSTART:20250330T010000
END:DAYLIGHT
BEGIN:STANDARD
TZOFFSETFROM:+0200
TZOFFSETTO:+0100
TZNAME:CET
DTSTART:20251026T010000
END:STANDARD
END:VTIMEZONE
BEGIN:VEVENT
DTSTART;TZID=Europe/Berlin:20240913T200000
DTEND;TZID=Europe/Berlin:20240913T230000
DTSTAMP:20260420T173038
CREATED:20240906T131918Z
LAST-MODIFIED:20240906T131918Z
UID:10004268-1726257600-1726268400@transmann.de
SUMMARY:Kooperationsveranstaltung: TRANS - I GOT LIFE - Filmvorführung in Bochum
DESCRIPTION:Wer den Film TRANS – I GOT LIFE noch nicht gesehen hat oder ihn nochmals im Kino sehen möchte\, hat gleich 2 Möglichkeiten im September: \nLETs DOK NRW zeigt dem Film am: \n\nFreitag\, den 13.09. um 20:00 Uhr im Endsation Kino in Bochum.\nIm Anschluss gibt es ein Filmgesprech mit Regisseurin Imogen Kimmel und Christian Schabel- Blessing (Vorstand TransMann e.V. ) und Mario Maurice (Regionalgruppenleiter Essen\, TransMann e.V.). Moderation: Anny Nadollek (dgti e.V.).\n\nMehr Informationen gibt es hier: TRANS – I GOT LIFE – Film – LETsDOK
URL:https://transmann.de/veranstaltung/kooperationsveranstaltung-trans-i-got-life-filmvorfuehrung-in-bochum/
LOCATION:Endstation Kino Bochum\, Wallbaumweg\, Bochum\, Arnsberg\, 44894\, Germany
CATEGORIES:Kooperationsveranstaltung
ATTACH;FMTTYPE=image/jpeg:https://transmann.de/wp-content/uploads/2024/09/TIGL-LETsDOK.jpg
GEO:51.479297;7.3212681
X-APPLE-STRUCTURED-LOCATION;VALUE=URI;X-ADDRESS=Endstation Kino Bochum Wallbaumweg Bochum Arnsberg 44894 Germany;X-APPLE-RADIUS=500;X-TITLE=Wallbaumweg:geo:7.3212681,51.479297
END:VEVENT
END:VCALENDAR