BEGIN:VCALENDAR
VERSION:2.0
PRODID:-//TransMann e.V.® - ECPv6.15.20//NONSGML v1.0//EN
CALSCALE:GREGORIAN
METHOD:PUBLISH
X-ORIGINAL-URL:https://transmann.de
X-WR-CALDESC:Veranstaltungen für TransMann e.V.®
REFRESH-INTERVAL;VALUE=DURATION:PT1H
X-Robots-Tag:noindex
X-PUBLISHED-TTL:PT1H
BEGIN:VTIMEZONE
TZID:Europe/Berlin
BEGIN:DAYLIGHT
TZOFFSETFROM:+0100
TZOFFSETTO:+0200
TZNAME:CEST
DTSTART:20220327T010000
END:DAYLIGHT
BEGIN:STANDARD
TZOFFSETFROM:+0200
TZOFFSETTO:+0100
TZNAME:CET
DTSTART:20221030T010000
END:STANDARD
BEGIN:DAYLIGHT
TZOFFSETFROM:+0100
TZOFFSETTO:+0200
TZNAME:CEST
DTSTART:20230326T010000
END:DAYLIGHT
BEGIN:STANDARD
TZOFFSETFROM:+0200
TZOFFSETTO:+0100
TZNAME:CET
DTSTART:20231029T010000
END:STANDARD
BEGIN:DAYLIGHT
TZOFFSETFROM:+0100
TZOFFSETTO:+0200
TZNAME:CEST
DTSTART:20240331T010000
END:DAYLIGHT
BEGIN:STANDARD
TZOFFSETFROM:+0200
TZOFFSETTO:+0100
TZNAME:CET
DTSTART:20241027T010000
END:STANDARD
END:VTIMEZONE
BEGIN:VEVENT
DTSTART;TZID=Europe/Berlin:20230603T200000
DTEND;TZID=Europe/Berlin:20230603T220000
DTSTAMP:20260420T201504
CREATED:20230527T085707Z
LAST-MODIFIED:20230527T085707Z
UID:10004056-1685822400-1685829600@transmann.de
SUMMARY:Fremdveranstaltung: Kings of Munich Drag Show
DESCRIPTION:Kings of Munich  \nMünchner Drag Kings und Quings präsentieren ihre Interpretation von Drag in der Szenerie\, der Bar des Theater Drehleier. \nDie beiden Drag-Besties Showmaster Ruby Tuesday und Stilikone Perry Stroika versammeln das Who-is-who der lokalen Male-Impersonator-Szene zu einer Show\, die alle Geschlechtergrenzen durchbricht und auf den Kopf stellt: \nKings of Munich – wo Monarchie noch Spaß macht! \nTickets kosten 14 Euro und können dirket hier gekauft werden: https://theater-drehleier.de/programm/event/03062023_kings_of_munich \n 
URL:https://transmann.de/veranstaltung/fremdveranstaltung-kings-of-munich-drag-show/
LOCATION:Drehleier Theater\, Rosenheimer Str. 123\, München\, Bayern\, 81667\, Deutschland
CATEGORIES:Fremdveranstaltung
ATTACH;FMTTYPE=image/jpeg:https://transmann.de/wp-content/uploads/2023/05/63c2edbb20beb.jpg
GEO:48.1260047;11.5985969
X-APPLE-STRUCTURED-LOCATION;VALUE=URI;X-ADDRESS=Drehleier Theater Rosenheimer Str. 123 München Bayern 81667 Deutschland;X-APPLE-RADIUS=500;X-TITLE=Rosenheimer Str. 123:geo:11.5985969,48.1260047
END:VEVENT
END:VCALENDAR