BEGIN:VCALENDAR
VERSION:2.0
PRODID:-//TransMann e.V.® - ECPv6.15.20//NONSGML v1.0//EN
CALSCALE:GREGORIAN
METHOD:PUBLISH
X-WR-CALNAME:TransMann e.V.®
X-ORIGINAL-URL:https://transmann.de
X-WR-CALDESC:Veranstaltungen für TransMann e.V.®
REFRESH-INTERVAL;VALUE=DURATION:PT1H
X-Robots-Tag:noindex
X-PUBLISHED-TTL:PT1H
BEGIN:VTIMEZONE
TZID:Europe/Berlin
BEGIN:DAYLIGHT
TZOFFSETFROM:+0100
TZOFFSETTO:+0200
TZNAME:CEST
DTSTART:20220327T010000
END:DAYLIGHT
BEGIN:STANDARD
TZOFFSETFROM:+0200
TZOFFSETTO:+0100
TZNAME:CET
DTSTART:20221030T010000
END:STANDARD
BEGIN:DAYLIGHT
TZOFFSETFROM:+0100
TZOFFSETTO:+0200
TZNAME:CEST
DTSTART:20230326T010000
END:DAYLIGHT
BEGIN:STANDARD
TZOFFSETFROM:+0200
TZOFFSETTO:+0100
TZNAME:CET
DTSTART:20231029T010000
END:STANDARD
BEGIN:DAYLIGHT
TZOFFSETFROM:+0100
TZOFFSETTO:+0200
TZNAME:CEST
DTSTART:20240331T010000
END:DAYLIGHT
BEGIN:STANDARD
TZOFFSETFROM:+0200
TZOFFSETTO:+0100
TZNAME:CET
DTSTART:20241027T010000
END:STANDARD
END:VTIMEZONE
BEGIN:VEVENT
DTSTART;TZID=Europe/Berlin:20230218T160000
DTEND;TZID=Europe/Berlin:20230218T180000
DTSTAMP:20260420T162405
CREATED:20221105T075150Z
LAST-MODIFIED:20230218T100424Z
UID:10003846-1676736000-1676743200@transmann.de
SUMMARY:TM e.V. - Gruppentreffen der RG München - 18.02.2023
DESCRIPTION:Jeden 3. Samstag im Monats bieten wir ein Austauschtreffen von 16:00 bis 18:00 Uhr vor Ort in den Räumen des Selbsthilfezentrum München\, in der Westendstr. 68 an.\nIm Anschluss an das Treffen besteht die Möglichkeit noch zum weiteren Austausch bei einem gemütlichen Ausklang in einem nahegelegenen Lokal. \nWer ist willkommen: \n\nAlle\, FzM/FtM trans*\, inter*\, nicht-binäre und queere Personen\, die sich mit ihrem Geburtsgeschlecht „weiblich“ nicht oder nur zum Teil beschrieben fühlen.\nAlle Partner*innen\,  Angehörige und Interessierte\, die mehr über das Thema  erfahren möchten\nUnabhängig ob man noch ganz am Anfang steht oder schon seit Jahren dabei ist\nDas Alter spielt keine Rolle\nWer aus gesundheitlichen Gründen(z.B. Erkältungssymptomen\, Covid-19\, Post-OP etc. )\, aufgrund eines gerade stattfindenden Krankenhausaufenthaltes oder aufgrund der Entfernung nicht persönlich teilnehmen kann\, hat die Möglichkeit sich online einzuwählen.\n\nUm unsere Treffen interessanter zu gestalten\, versuchen wir Themenvorschläge etc. anzubieten.\nDiese sind kein Muss – es wird immer genügend Raum und Zeit auch für die persönlichen Anliegen und Fragen zu geben. \nWenn du einen Themenwunsch hast\, kannst du uns diesen gerne vorab per E-Mail an muenchen [ @ ] transmann.de senden! \nWir versuchen so gut es geht einen sicheren\, diskriminierungsfreien  Raum für alle Teilnehmenden zu bieten\, daher ist uns ein respektvoller Umgang wichtig. \nThemenvorschlag: 
URL:https://transmann.de/veranstaltung/tm-e-v-gruppentreffen-der-rg-muenchen-18-02-2023/
LOCATION:SHZ München\, Westendstraße 68\, München\, 80339\, Deutschland
CATEGORIES:Gruppentreffen einer Regionalgruppe,Hybridveranstaltung,Veranstaltung des TransMann e.V.
ATTACH;FMTTYPE=image/png:https://transmann.de/wp-content/uploads/2018/09/Stempel-RG_Muenchen.png
ORGANIZER;CN="TransMann e.V. Regionalgruppe M%C3%BCnchen":MAILTO:muenchen@transmann.de
GEO:48.1383156;11.540382
X-APPLE-STRUCTURED-LOCATION;VALUE=URI;X-ADDRESS=SHZ München Westendstraße 68 München 80339 Deutschland;X-APPLE-RADIUS=500;X-TITLE=Westendstraße 68:geo:11.540382,48.1383156
END:VEVENT
BEGIN:VEVENT
DTSTART;TZID=Europe/Berlin:20230204T160000
DTEND;TZID=Europe/Berlin:20230204T180000
DTSTAMP:20260420T162405
CREATED:20221031T051059Z
LAST-MODIFIED:20230217T141818Z
UID:10003831-1675526400-1675533600@transmann.de
SUMMARY:TM e.V. – Online-Austausch der RG München - 04.02.2023
DESCRIPTION:Jeden 1. Samstag im Monats bieten wir ein reines Online-Austauschtreffen von 16:00 bis 18:00 Uhr über Microsoft Teams an. \nWer ist willkommen: \n\nAlle\, FzM/FtM trans*\, inter*\, nicht-binäre und queere Personen\, die sich mit ihrem Geburtsgeschlecht „weiblich“ nicht oder nur zum Teil beschrieben fühlen.\nAlle Partner*innen\,  Angehörige und Interessierte\, die mehr über das Thema  erfahren möchten\nUnabhängig ob man noch ganz am Anfang steht oder schon seit Jahren dabei ist\nEs spielt keine Rolle ob du München\, Bayern oder aus dem gesamten deutschsprachigen Raum\nDas Alter spielt keine Rolle\n\nUm unsere Treffen interessanter zu gestalten\, versuchen wir Themenvorschläge etc. anzubieten.\nDiese sind kein Muss – es wird immer genügend Raum und Zeit auch für die persönlichen Anliegen und Fragen zu geben. \nWenn du einen Themenwunsch hast\, kannst du uns diesen gerne vorab per E-Mail an muenchen [ @ ] transmann.de senden! \nWir versuchen so gut es geht einen sicheren\, diskriminierungsfreien  Raum für alle Teilnehmenden zu bieten\, daher ist uns ein respektvoller Umgang wichtig. \nThemenvorschlag: 
URL:https://transmann.de/veranstaltung/tm-e-v-online-austausch-der-rg-muenchen-04-02-2023/
LOCATION:https://teams.microsoft.com/l/meetup-join/19%3ameeting_ZmU5NDQ3ZjktYTc5ZS00ZTJkLWIwNDMtMzQxYzRhMjdlOGQ4%40thread.v2/0?context=%7b%22Tid%22%3a%222358a119-0fee-4919-9e1a-6e8f09751687%22%2c%22Oid%22%3a%22afd5b827-ca1e-42f7-b3c8-181c114c715c%22%7d
CATEGORIES:Gruppentreffen einer Regionalgruppe,Online-Veranstaltung,Veranstaltung des TransMann e.V.
ATTACH;FMTTYPE=image/png:https://transmann.de/wp-content/uploads/2018/09/Stempel-RG_Muenchen.png
END:VEVENT
BEGIN:VEVENT
DTSTART;TZID=Europe/Berlin:20230121T160000
DTEND;TZID=Europe/Berlin:20230121T180000
DTSTAMP:20260420T162405
CREATED:20221105T072413Z
LAST-MODIFIED:20230218T100335Z
UID:10003845-1674316800-1674324000@transmann.de
SUMMARY:TM e.V. - Gruppentreffen der RG München - 21.01.2023
DESCRIPTION:Jeden 3. Samstag im Monats bieten wir ein Austauschtreffen von 16:00 bis 18:00 Uhr vor Ort in den Räumen des Selbsthilfezentrum München\, in der Westendstr. 68 an.\nIm Anschluss an das Treffen besteht die Möglichkeit noch zum weiteren Austausch bei einem gemütlichen Ausklang in einem nahegelegenen Lokal. \nWer ist willkommen: \n\nAlle\, FzM/FtM trans*\, inter*\, nicht-binäre und queere Personen\, die sich mit ihrem Geburtsgeschlecht „weiblich“ nicht oder nur zum Teil beschrieben fühlen.\nAlle Partner*innen\,  Angehörige und Interessierte\, die mehr über das Thema  erfahren möchten\nUnabhängig ob man noch ganz am Anfang steht oder schon seit Jahren dabei ist\nDas Alter spielt keine Rolle\nWer aus gesundheitlichen Gründen(z.B. Erkältungssymptomen\, Covid-19\, Post-OP etc. )\, aufgrund eines gerade stattfindenden Krankenhausaufenthaltes oder aufgrund der Entfernung nicht persönlich teilnehmen kann\, hat die Möglichkeit sich online einzuwählen.\n\nUm unsere Treffen interessanter zu gestalten\, versuchen wir Themenvorschläge etc. anzubieten.\nDiese sind kein Muss – es wird immer genügend Raum und Zeit auch für die persönlichen Anliegen und Fragen zu geben. \nWenn du einen Themenwunsch hast\, kannst du uns diesen gerne vorab per E-Mail an muenchen [ @ ] transmann.de senden! \nWir versuchen so gut es geht einen sicheren\, diskriminierungsfreien  Raum für alle Teilnehmenden zu bieten\, daher ist uns ein respektvoller Umgang wichtig. \nThemenvorschlag:  Welche Fragen beschäftigen einen vor\, während und nach der Transition? Lassung uns gemeinsam die Fragen sammeln und besprechen. 
URL:https://transmann.de/veranstaltung/tm-e-v-gruppentreffen-der-rg-muenchen-21-01-2022/
LOCATION:SHZ München\, Westendstraße 68\, München\, 80339\, Deutschland
CATEGORIES:Gruppentreffen einer Regionalgruppe,Hybridveranstaltung,Veranstaltung des TransMann e.V.
ATTACH;FMTTYPE=image/png:https://transmann.de/wp-content/uploads/2018/09/Stempel-RG_Muenchen.png
ORGANIZER;CN="TransMann e.V. Regionalgruppe M%C3%BCnchen":MAILTO:muenchen@transmann.de
GEO:48.1383156;11.540382
X-APPLE-STRUCTURED-LOCATION;VALUE=URI;X-ADDRESS=SHZ München Westendstraße 68 München 80339 Deutschland;X-APPLE-RADIUS=500;X-TITLE=Westendstraße 68:geo:11.540382,48.1383156
END:VEVENT
BEGIN:VEVENT
DTSTART;TZID=Europe/Berlin:20230107T160000
DTEND;TZID=Europe/Berlin:20230107T180000
DTSTAMP:20260420T162405
CREATED:20221031T051021Z
LAST-MODIFIED:20230218T095553Z
UID:10003830-1673107200-1673114400@transmann.de
SUMMARY:TM e.V. – Online-Austausch der RG München - 07.01.2023
DESCRIPTION:Jeden 1. Samstag im Monats bieten wir ein reines Online-Austauschtreffen von 16:00 bis 18:00 Uhr über Microsoft Teams an. \nWer ist willkommen: \n\nAlle\, FzM/FtM trans*\, inter*\, nicht-binäre und queere Personen\, die sich mit ihrem Geburtsgeschlecht „weiblich“ nicht oder nur zum Teil beschrieben fühlen.\nAlle Partner*innen\,  Angehörige und Interessierte\, die mehr über das Thema  erfahren möchten\nUnabhängig ob man noch ganz am Anfang steht oder schon seit Jahren dabei ist\nEs spielt keine Rolle ob du München\, Bayern oder aus dem gesamten deutschsprachigen Raum\nDas Alter spielt keine Rolle\n\nUm unsere Treffen interessanter zu gestalten\, versuchen wir Themenvorschläge etc. anzubieten.\nDiese sind kein Muss – es wird immer genügend Raum und Zeit auch für die persönlichen Anliegen und Fragen zu geben. \nWenn du einen Themenwunsch hast\, kannst du uns diesen gerne vorab per E-Mail an muenchen [ @ ] transmann.de senden! \nWir versuchen so gut es geht einen sicheren\, diskriminierungsfreien  Raum für alle Teilnehmenden zu bieten\, daher ist uns ein respektvoller Umgang wichtig. \nThemenvorschlag: 
URL:https://transmann.de/veranstaltung/tm-e-v-online-austausch-der-rg-muenchen-07-01-2023/
LOCATION:https://teams.microsoft.com/l/meetup-join/19%3ameeting_ZmU5NDQ3ZjktYTc5ZS00ZTJkLWIwNDMtMzQxYzRhMjdlOGQ4%40thread.v2/0?context=%7b%22Tid%22%3a%222358a119-0fee-4919-9e1a-6e8f09751687%22%2c%22Oid%22%3a%22afd5b827-ca1e-42f7-b3c8-181c114c715c%22%7d
CATEGORIES:Gruppentreffen einer Regionalgruppe,Online-Veranstaltung,Veranstaltung des TransMann e.V.
ATTACH;FMTTYPE=image/png:https://transmann.de/wp-content/uploads/2018/09/Stempel-RG_Muenchen.png
ORGANIZER;CN="TransMann e.V. Regionalgruppe M%C3%BCnchen":MAILTO:muenchen@transmann.de
END:VEVENT
END:VCALENDAR