BEGIN:VCALENDAR
VERSION:2.0
PRODID:-//TransMann e.V.® - ECPv6.15.20//NONSGML v1.0//EN
CALSCALE:GREGORIAN
METHOD:PUBLISH
X-WR-CALNAME:TransMann e.V.®
X-ORIGINAL-URL:https://transmann.de
X-WR-CALDESC:Veranstaltungen für TransMann e.V.®
REFRESH-INTERVAL;VALUE=DURATION:PT1H
X-Robots-Tag:noindex
X-PUBLISHED-TTL:PT1H
BEGIN:VTIMEZONE
TZID:Europe/Berlin
BEGIN:DAYLIGHT
TZOFFSETFROM:+0100
TZOFFSETTO:+0200
TZNAME:CEST
DTSTART:20230326T010000
END:DAYLIGHT
BEGIN:STANDARD
TZOFFSETFROM:+0200
TZOFFSETTO:+0100
TZNAME:CET
DTSTART:20231029T010000
END:STANDARD
BEGIN:DAYLIGHT
TZOFFSETFROM:+0100
TZOFFSETTO:+0200
TZNAME:CEST
DTSTART:20240331T010000
END:DAYLIGHT
BEGIN:STANDARD
TZOFFSETFROM:+0200
TZOFFSETTO:+0100
TZNAME:CET
DTSTART:20241027T010000
END:STANDARD
BEGIN:DAYLIGHT
TZOFFSETFROM:+0100
TZOFFSETTO:+0200
TZNAME:CEST
DTSTART:20250330T010000
END:DAYLIGHT
BEGIN:STANDARD
TZOFFSETFROM:+0200
TZOFFSETTO:+0100
TZNAME:CET
DTSTART:20251026T010000
END:STANDARD
END:VTIMEZONE
BEGIN:VEVENT
DTSTART;TZID=Europe/Berlin:20240721T100000
DTEND;TZID=Europe/Berlin:20240721T220000
DTSTAMP:20260424T113949
CREATED:20240417T174342Z
LAST-MODIFIED:20240417T174342Z
UID:10004254-1721556000-1721599200@transmann.de
SUMMARY:Fremdveranstaltung: EXTRA PRIDE'24 - München
DESCRIPTION:extra pride 2024 München\n“nothing about us without us“ – 21.Juli\, 10 am\, www.import-export.cc\nfür alle queeren* Schwarzen Menschen\, Indigenous Menschen\, People of Color\, Trans*Menschen\, Inter*Menschen\, Nicht-Binäre Menschen\, Menschen die von der Gesellschaft behindert werden\, mehr- und schwergewichtige Menschen\, ältere Menschen\, Kinder\, Unterstützer*Innen & anderen marginalisierten Menschen. \nEs wird Workshops und Vorträge am Vormittag geben und ein Bühnenprogramm mit Spoken Word\, Performances\, Interviews am Nachmittag. Ganztägig gibt es den Infomarkt und eine Kunstausstellung. \nWir lassen den Abend mit unserer „extra pride after party“ ausklingen.\nAnmeldung vor Ort\, Beginn 10Uhr bis 22Uhr.\nOrganisiert von: Beyond Color\, AfroDiaspora 2.0//\, PLUS\, unterstützt von QueerBIPocsMunich\, gefördert von Kulturreferat und Gesundheitsreferat der Landeshauptstadt München sowie dem Fonds Queere Gleichstellung. \n***\nextra pride 2024 Munich\n“nothing about us without us” 21st of July\, 10 am\, www.import-export.cc\nfor all queer* Black people\, Indigenous people\, people of color\, trans* people\, inter* people\, non-binary people\, people who are disabled by society\, queer fat people\, older people\, children\, supporters and other marginalized people. \nThere will be workshops and lectures in the morning and a stage program with spoken word\, performances & interviews in the afternoon. There is an information market and an art exhibition all day long. We end the evening with our “extra pride after party”. \nRegistration on site. Start 10am – 10pm.\nOrganized by: Beyond Color\, AfroDiaspora 2.0//\, PLUS\, supported by QueerBIPocsMunich\, funded by the Cultural Department and the Health Department of the City of Munich and the Fonds Queer Equality. \nHinweis des TransMann e.V.:\nEs handelt sich hier um eine Fremdveranstaltung\, welche vom TransMann e.V. ausschließlich beworben wird.\nFür Inhalt\, Konzept und Ausführung der Veranstaltung übernimmt der TransMann e.V. keine Haftung oder Verantwortung.
URL:https://transmann.de/veranstaltung/fremdveranstaltung-extra-pride24-muenchen/
LOCATION:Import Export\, Schwere Reiter Str.\, Schwere Reiter Str. 2\, München\, 80636\, Deutschland
CATEGORIES:Fremdveranstaltung
ATTACH;FMTTYPE=image/jpeg:https://transmann.de/wp-content/uploads/2024/04/preFlyer-ep-24.jpg
GEO:48.15962;11.5493422
X-APPLE-STRUCTURED-LOCATION;VALUE=URI;X-ADDRESS=Import Export Schwere Reiter Str. Schwere Reiter Str. 2 München 80636 Deutschland;X-APPLE-RADIUS=500;X-TITLE=Schwere Reiter Str. 2:geo:11.5493422,48.15962
END:VEVENT
END:VCALENDAR