BEGIN:VCALENDAR
VERSION:2.0
PRODID:-//TransMann e.V.® - ECPv6.15.20//NONSGML v1.0//EN
CALSCALE:GREGORIAN
METHOD:PUBLISH
X-ORIGINAL-URL:https://transmann.de
X-WR-CALDESC:Veranstaltungen für TransMann e.V.®
REFRESH-INTERVAL;VALUE=DURATION:PT1H
X-Robots-Tag:noindex
X-PUBLISHED-TTL:PT1H
BEGIN:VTIMEZONE
TZID:Europe/Berlin
BEGIN:DAYLIGHT
TZOFFSETFROM:+0100
TZOFFSETTO:+0200
TZNAME:CEST
DTSTART:20220327T010000
END:DAYLIGHT
BEGIN:STANDARD
TZOFFSETFROM:+0200
TZOFFSETTO:+0100
TZNAME:CET
DTSTART:20221030T010000
END:STANDARD
BEGIN:DAYLIGHT
TZOFFSETFROM:+0100
TZOFFSETTO:+0200
TZNAME:CEST
DTSTART:20230326T010000
END:DAYLIGHT
BEGIN:STANDARD
TZOFFSETFROM:+0200
TZOFFSETTO:+0100
TZNAME:CET
DTSTART:20231029T010000
END:STANDARD
BEGIN:DAYLIGHT
TZOFFSETFROM:+0100
TZOFFSETTO:+0200
TZNAME:CEST
DTSTART:20240331T010000
END:DAYLIGHT
BEGIN:STANDARD
TZOFFSETFROM:+0200
TZOFFSETTO:+0100
TZNAME:CET
DTSTART:20241027T010000
END:STANDARD
END:VTIMEZONE
BEGIN:VEVENT
DTSTART;VALUE=DATE:20230807
DTEND;VALUE=DATE:20230808
DTSTAMP:20260422T195640
CREATED:20230604T083018Z
LAST-MODIFIED:20230604T083018Z
UID:10004057-1691366400-1691452799@transmann.de
SUMMARY:Fremdveranstaltung: Unsere Körper - Zeit für Aktivität und Stärke - 07.08.2023 bis 10.08.2023
DESCRIPTION:Workshop: Unser Körper – Zeit für Aktivität und Stärke.\nSelbsterfahrung durch Bewegung für trans und nicht-binäre Menschen\nDozent*innen: Manuel R. Garcia und Alexander Hahne\nKosten:235\,00 Euro\nDauer: Von Montag\, den 07.08.2023 bis Donnerstag\, den 10.08.2023 (Mehrtägige Veranstaltung)\n\nIn diesem Workshop kannst du dir Zeit nehmen mit anderen trans und nicht-binären Menschen deine Stärken zu spüren. Unsere aktiven\, bewegten Körper stehen im Mittelpunkt. Durch angeleitete Übungen hast du die Möglichkeit deine Präsenz und Innigkeit mit und durch andere Teilnehmende wahrzunehmen. Der Fokus liegt auf den positiven Aspekten deiner verkörperten Biografie. Methoden die wir trans und nicht-binär sensibel anleiten sind: Bewegung im Raum\, Kontaktimprovisation\, Atmenübungen\, Bodyscans\, Queerfight\, Authentic Movement\, erfahrbare Anatomie\, Genusswahrnehmung\, Gesprächsrunden und Rituale. Wir bieten dir einen ganzheitlichen Rahmen in dem unser gesamter Körper und unser Genuss willkommen sind.\nDas Seminar richtet sich an alle trans und nicht-binären Menschen. Inter Menschen sind ebenfalls herzlich willkommen. \nInformationen und Anmeldung gibt es hier:\nVeranstaltungsdetails – Akademie Waldschlösschen (waldschloesschen.org)
URL:https://transmann.de/veranstaltung/fremdveranstaltung-unsere-koerper-zeit-fuer-aktivitaet-und-staerke-07-08-2023-bis-10-08-2023/
LOCATION:Akademie Waldschlösschen Göttingen\, Waldstraße\, Reinhausen bei Göttingen\, Niedersachsen\, 37130\, Deutschland
CATEGORIES:Fremdveranstaltung
ATTACH;FMTTYPE=image/png:https://transmann.de/wp-content/uploads/2023/06/Waldschloesschen-goettingen.png
GEO:51.4676508;9.9868061
X-APPLE-STRUCTURED-LOCATION;VALUE=URI;X-ADDRESS=Akademie Waldschlösschen Göttingen Waldstraße Reinhausen bei Göttingen Niedersachsen 37130 Deutschland;X-APPLE-RADIUS=500;X-TITLE=Waldstraße:geo:9.9868061,51.4676508
END:VEVENT
END:VCALENDAR