BEGIN:VCALENDAR
VERSION:2.0
PRODID:-//TransMann e.V.® - ECPv6.15.20//NONSGML v1.0//EN
CALSCALE:GREGORIAN
METHOD:PUBLISH
X-WR-CALNAME:TransMann e.V.®
X-ORIGINAL-URL:https://transmann.de
X-WR-CALDESC:Veranstaltungen für TransMann e.V.®
REFRESH-INTERVAL;VALUE=DURATION:PT1H
X-Robots-Tag:noindex
X-PUBLISHED-TTL:PT1H
BEGIN:VTIMEZONE
TZID:Europe/Berlin
BEGIN:DAYLIGHT
TZOFFSETFROM:+0100
TZOFFSETTO:+0200
TZNAME:CEST
DTSTART:20220327T010000
END:DAYLIGHT
BEGIN:STANDARD
TZOFFSETFROM:+0200
TZOFFSETTO:+0100
TZNAME:CET
DTSTART:20221030T010000
END:STANDARD
BEGIN:DAYLIGHT
TZOFFSETFROM:+0100
TZOFFSETTO:+0200
TZNAME:CEST
DTSTART:20230326T010000
END:DAYLIGHT
BEGIN:STANDARD
TZOFFSETFROM:+0200
TZOFFSETTO:+0100
TZNAME:CET
DTSTART:20231029T010000
END:STANDARD
BEGIN:DAYLIGHT
TZOFFSETFROM:+0100
TZOFFSETTO:+0200
TZNAME:CEST
DTSTART:20240331T010000
END:DAYLIGHT
BEGIN:STANDARD
TZOFFSETFROM:+0200
TZOFFSETTO:+0100
TZNAME:CET
DTSTART:20241027T010000
END:STANDARD
END:VTIMEZONE
BEGIN:VEVENT
DTSTART;TZID=Europe/Berlin:20230414T180000
DTEND;TZID=Europe/Berlin:20230414T200000
DTSTAMP:20260419T151018
CREATED:20221114T114130Z
LAST-MODIFIED:20230217T151319Z
UID:10003865-1681495200-1681502400@transmann.de
SUMMARY:TM e.V. - Gruppentreffen der RG Bielefeld - 14.04.2023
DESCRIPTION:Jeden 2. Freitag im Monat bieten wir ein Austauschtreffen von 18:00 bis ca. 20:00 Uhr vor Ort in den Räumen der Aidshilfe Bielefeld e.V.\, Ehlentruper Weg 45a in Bielefeld an. \nWer ist willkommen: \n\nAlle\, FzM/FtM trans*\, inter*\, nicht-binäre und queere Personen\, die sich mit ihrem Geburtsgeschlecht „weiblich“ nicht oder nur zum Teil beschrieben fühlen.\nAlle Partner*innen\,  Angehörige und Interessierte\, die mehr über das Thema  erfahren möchten\nUnabhängig ob man noch ganz am Anfang steht oder schon seit Jahren dabei ist\nDas Alter spielt keine Rolle\n\nUm unsere Treffen interessanter zu gestalten\, versuchen wir Themenvorschläge etc. anzubieten.\nDiese sind kein Muss – es wird immer genügend Raum und Zeit auch für die persönlichen Anliegen und Fragen zu geben. \nWenn du einen Themenwunsch hast\, kannst du uns diesen gerne vorab per E-Mail an bielefeld [ @ ] transmann.de senden! \nWir versuchen so gut es geht einen sicheren\, diskriminierungsfreien  Raum für alle Teilnehmenden zu bieten\, daher ist uns ein respektvoller Umgang wichtig. \nThemenvorschlag: noch offen
URL:https://transmann.de/veranstaltung/tm-e-v-gruppentreffen-der-rg-bielefeld-14-04-2023/
LOCATION:Aidshilfe Bielefeld e.V.\, Ehlentruper Weg 45a\, Bielefeld\, 33604\, Deutschland
CATEGORIES:Gruppentreffen einer Regionalgruppe,Veranstaltung des TransMann e.V.
ATTACH;FMTTYPE=image/png:https://transmann.de/wp-content/uploads/2018/09/Stempel-RG_Bielefeld.png
GEO:52.0125244;8.5446404
X-APPLE-STRUCTURED-LOCATION;VALUE=URI;X-ADDRESS=Aidshilfe Bielefeld e.V. Ehlentruper Weg 45a Bielefeld 33604 Deutschland;X-APPLE-RADIUS=500;X-TITLE=Ehlentruper Weg 45a:geo:8.5446404,52.0125244
END:VEVENT
BEGIN:VEVENT
DTSTART;TZID=Europe/Berlin:20230310T180000
DTEND;TZID=Europe/Berlin:20230310T200000
DTSTAMP:20260419T151018
CREATED:20221114T114049Z
LAST-MODIFIED:20230217T145545Z
UID:10003864-1678471200-1678478400@transmann.de
SUMMARY:TM e.V. - Gruppentreffen der RG Bielefeld - 10.03.2023
DESCRIPTION:Jeden 2. Freitag im Monat bieten wir ein Austauschtreffen von 18:00 bis ca. 20:00 Uhr vor Ort in den Räumen der Aidshilfe Bielefeld e.V.\, Ehlentruper Weg 45a in Bielefeld an. \nWer ist willkommen: \n\nAlle\, FzM/FtM trans*\, inter*\, nicht-binäre und queere Personen\, die sich mit ihrem Geburtsgeschlecht „weiblich“ nicht oder nur zum Teil beschrieben fühlen.\nAlle Partner*innen\,  Angehörige und Interessierte\, die mehr über das Thema  erfahren möchten\nUnabhängig ob man noch ganz am Anfang steht oder schon seit Jahren dabei ist\nDas Alter spielt keine Rolle\n\nUm unsere Treffen interessanter zu gestalten\, versuchen wir Themenvorschläge etc. anzubieten.\nDiese sind kein Muss – es wird immer genügend Raum und Zeit auch für die persönlichen Anliegen und Fragen zu geben. \nWenn du einen Themenwunsch hast\, kannst du uns diesen gerne vorab per E-Mail an bielefeld [ @ ] transmann.de senden! \nWir versuchen so gut es geht einen sicheren\, diskriminierungsfreien  Raum für alle Teilnehmenden zu bieten\, daher ist uns ein respektvoller Umgang wichtig. \nThemenvorschlag: noch offen
URL:https://transmann.de/veranstaltung/tm-e-v-gruppentreffen-der-rg-bielefeld-10-03-2023/
LOCATION:Aidshilfe Bielefeld e.V.\, Ehlentruper Weg 45a\, Bielefeld\, 33604\, Deutschland
CATEGORIES:Gruppentreffen einer Regionalgruppe,Veranstaltung des TransMann e.V.
ATTACH;FMTTYPE=image/png:https://transmann.de/wp-content/uploads/2018/09/Stempel-RG_Bielefeld.png
GEO:52.0125244;8.5446404
X-APPLE-STRUCTURED-LOCATION;VALUE=URI;X-ADDRESS=Aidshilfe Bielefeld e.V. Ehlentruper Weg 45a Bielefeld 33604 Deutschland;X-APPLE-RADIUS=500;X-TITLE=Ehlentruper Weg 45a:geo:8.5446404,52.0125244
END:VEVENT
BEGIN:VEVENT
DTSTART;TZID=Europe/Berlin:20230223T190000
DTEND;TZID=Europe/Berlin:20230223T210000
DTSTAMP:20260419T151018
CREATED:20230129T120040Z
LAST-MODIFIED:20230217T143648Z
UID:10003963-1677178800-1677186000@transmann.de
SUMMARY:Fremdveranstaltung: Der Entlastungsbetrag - eine Möglichkeit der Unterstützung von LSBTI* im Alter
DESCRIPTION:Informationsveranstaltung \nDer Entlastungsbetrag – eine Möglichkeit der Unterstützung für Lesben\, Schwule\, Bisexuelle\, Trans* und Inter* im Alter \nDie Aidshilfen Bielefeld e.V. und Paderborn e.V. und das Regionalbüro Alter\, Pflege und Demenz OWL laden herzlich ein zur Informationsveranstaltung am 23.02.2023 um 19:00 Uhr im Grünen Würfel\, Kesselbrink 2 in Bielefeld. \n Viele ältere Lesben\, Schwule\, Bisexuelle\, Trans*\, Inter* und queere Menschen (LSBTIQ*) befürchten\, wenn sie pflegebedürftig werden\, an Autonomie zu verlieren und nicht mehr selbstbestimmt queer leben zu können. Sie wünschen sich\, von einem Pflegedienst versorgt zu werden\, der für queere Lebenslagen sensibel und offen sind. Sie wünschen sich aber auch Unterstützung von ihrer Wahlfamilie\, ihren Freund*innen und von engagierten Menschen aus den queeren Communities \nIm Alter benötigen viele queere Menschen Unterstützung im Alltag\, zum Beispiel beim Kochen\, Putzen oder bei der Begleitung zum Arzt. An- und Zugehörige benötigen Entlastung\, wenn sie zum Beispiel einen erkrankten Partner stundenweise zu Hause betreuen lassen möchten. Der Entlastungsbetrag (gem. § 45b SGB XI) soll pflegebedürftigen Menschen unbürokratisch Unterstützung im Alltag ermöglichen und pflegende An- und Zugehörige entlasten. Er beträgt 125€ monatlich und steht jeder Person ab dem Pflegegrad 1 zu. Er kann für vielfältige Leistungen zur Unterstützung im Alltag eingesetzt werden. \nGrundsätzlich kann jede*r entweder als Nachbarschaftshelfer*innen\, als Minijobber*in oder in Rahmen einer Selbstständigkeit Unterstützungsleistungen anbieten. \nDie Teilnehmer*innen erfahren \n\nWelche Angebote gibt es?\n(z.B. Nachbarschaftshelfer*innen\, „Minijobber“\, selbstständig Tätige\, Entlastungsdienste\, ehrenamtliche Hilfen)\nWie kann man als Alltagsbegleiter*in tätig werden und welche Voraussetzungen gibt es?\n(z.B. Qualifikationen\, Registrierung und Online-Antrag\, benötigte Unterlagen)\nWo findet man weiterführende Beratung?\n\nZielgruppe der Veranstaltung sind Interessierte\, nachbarschaftlich Engagierte und an Nachbarschaftshilfe Interessierte\, Menschen die ein Unterstützungsangebot machen wollen\, Pflegebedürftige und pflegende Zugehörige\, allgemein interessierte Bürger*innen. \nDie Expert*innen sind: Mitarbeiter*innen des Regionalbüros Alter\, Pflege und Demenz OWL \nDie Veranstaltung ist kostenlos.        \nWir freuen uns auf Ihre Teilnahme
URL:https://transmann.de/veranstaltung/fremdveranstaltung-der-entlastungsbetrag-eine-moeglichkeit-der-unterstuetzung-von-lsbti-im-alter/
LOCATION:Stadtteilzentrum Gründer Würfel\, Kesselbrink 2\, Bielefeld\, 33602\, Deutschland
CATEGORIES:Fremdveranstaltung
GEO:52.0240345;8.5373862
X-APPLE-STRUCTURED-LOCATION;VALUE=URI;X-ADDRESS=Stadtteilzentrum Gründer Würfel Kesselbrink 2 Bielefeld 33602 Deutschland;X-APPLE-RADIUS=500;X-TITLE=Kesselbrink 2:geo:8.5373862,52.0240345
END:VEVENT
END:VCALENDAR