BEGIN:VCALENDAR
VERSION:2.0
PRODID:-//TransMann e.V.® - ECPv6.15.20//NONSGML v1.0//EN
CALSCALE:GREGORIAN
METHOD:PUBLISH
X-WR-CALNAME:TransMann e.V.®
X-ORIGINAL-URL:https://transmann.de
X-WR-CALDESC:Veranstaltungen für TransMann e.V.®
REFRESH-INTERVAL;VALUE=DURATION:PT1H
X-Robots-Tag:noindex
X-PUBLISHED-TTL:PT1H
BEGIN:VTIMEZONE
TZID:Europe/Berlin
BEGIN:DAYLIGHT
TZOFFSETFROM:+0100
TZOFFSETTO:+0200
TZNAME:CEST
DTSTART:20220327T010000
END:DAYLIGHT
BEGIN:STANDARD
TZOFFSETFROM:+0200
TZOFFSETTO:+0100
TZNAME:CET
DTSTART:20221030T010000
END:STANDARD
BEGIN:DAYLIGHT
TZOFFSETFROM:+0100
TZOFFSETTO:+0200
TZNAME:CEST
DTSTART:20230326T010000
END:DAYLIGHT
BEGIN:STANDARD
TZOFFSETFROM:+0200
TZOFFSETTO:+0100
TZNAME:CET
DTSTART:20231029T010000
END:STANDARD
BEGIN:DAYLIGHT
TZOFFSETFROM:+0100
TZOFFSETTO:+0200
TZNAME:CEST
DTSTART:20240331T010000
END:DAYLIGHT
BEGIN:STANDARD
TZOFFSETFROM:+0200
TZOFFSETTO:+0100
TZNAME:CET
DTSTART:20241027T010000
END:STANDARD
END:VTIMEZONE
BEGIN:VEVENT
DTSTART;TZID=Europe/Berlin:20230106T200000
DTEND;TZID=Europe/Berlin:20230106T223000
DTSTAMP:20260425T142040
CREATED:20221104T173724Z
LAST-MODIFIED:20230114T044636Z
UID:10003837-1673035200-1673044200@transmann.de
SUMMARY:TM e.V. - Online-Austauschtreffen der RG Köln
DESCRIPTION:Jeden ersten Freitag im Monat\, von 20:00  bis ca. 22:30 Uhr\,  findet nun immer ein Online-Treffen der Regionalgruppe Köln statt. \nJede/r kann daran teilnehmen.\nEs ist keine Anmeldung oder eine Mitgliedschaft im Verein notwendig. \nUnsere Gruppenleiter\, Philip\, Nick und Aurelius freuen sich über deine Teilnahme. \nThemenvorschlag: offener Austausch
URL:https://transmann.de/veranstaltung/tm-e-v-online-austauschtreffen-der-rg-koeln-2/2023-01-06/
LOCATION:https://teams.microsoft.com/l/meetup-join/19%3ameeting_NTAyZTQxMDktOTEyNi00OTc3LWE4OWMtYmFhZmI3OTYwMjc0%40thread.v2/0?context=%7b%22Tid%22%3a%222358a119-0fee-4919-9e1a-6e8f09751687%22%2c%22Oid%22%3a%22f742e394-a2a7-444c-a45c-025324bc6db4%22%7d
CATEGORIES:Gruppentreffen einer Regionalgruppe,Online-Veranstaltung,Veranstaltung des TransMann e.V.
ATTACH;FMTTYPE=image/png:https://transmann.de/wp-content/uploads/2018/09/Stempel-RG_Koeln.png
END:VEVENT
END:VCALENDAR