BEGIN:VCALENDAR
VERSION:2.0
PRODID:-//TransMann e.V.® - ECPv6.15.20//NONSGML v1.0//EN
CALSCALE:GREGORIAN
METHOD:PUBLISH
X-ORIGINAL-URL:https://transmann.de
X-WR-CALDESC:Veranstaltungen für TransMann e.V.®
REFRESH-INTERVAL;VALUE=DURATION:PT1H
X-Robots-Tag:noindex
X-PUBLISHED-TTL:PT1H
BEGIN:VTIMEZONE
TZID:Europe/Berlin
BEGIN:DAYLIGHT
TZOFFSETFROM:+0100
TZOFFSETTO:+0200
TZNAME:CEST
DTSTART:20190331T010000
END:DAYLIGHT
BEGIN:STANDARD
TZOFFSETFROM:+0200
TZOFFSETTO:+0100
TZNAME:CET
DTSTART:20191027T010000
END:STANDARD
BEGIN:DAYLIGHT
TZOFFSETFROM:+0100
TZOFFSETTO:+0200
TZNAME:CEST
DTSTART:20200329T010000
END:DAYLIGHT
BEGIN:STANDARD
TZOFFSETFROM:+0200
TZOFFSETTO:+0100
TZNAME:CET
DTSTART:20201025T010000
END:STANDARD
BEGIN:DAYLIGHT
TZOFFSETFROM:+0100
TZOFFSETTO:+0200
TZNAME:CEST
DTSTART:20210328T010000
END:DAYLIGHT
BEGIN:STANDARD
TZOFFSETFROM:+0200
TZOFFSETTO:+0100
TZNAME:CET
DTSTART:20211031T010000
END:STANDARD
END:VTIMEZONE
BEGIN:VEVENT
DTSTART;TZID=Europe/Berlin:20201003T160000
DTEND;TZID=Europe/Berlin:20201003T160000
DTSTAMP:20260423T151602
CREATED:20201002T081838Z
LAST-MODIFIED:20201002T081838Z
UID:10003318-1601740800-1601740800@transmann.de
SUMMARY:Treffen der Regionalgruppe München - 03.10.2020
DESCRIPTION:Thema: offener Austausch \nAufgrund der Corona-Situation “Covid-19” konnten wir seit März 2020 keine Live-Treffen mehr veranstalten.\nJetzt hat das SHZ-München wieder\, mit hohen Auflagen\, geöffnet und wir konnten unsere festen Termine wieder reservieren.\nDie Treffen dürfen aber nur unter Einhaltung fester Regeln und mit einer Personenzahl von max. 9 Teilnehmer*innen inkl. Gruppenleitung stattfinden.\nJonas und Christian werden sich abwechseln\, somit können 7 Teilnehmer*innen an den Treffen teilzunehmen. \nDas Gruppentreffen findet von 16 – 17:30 Uhr statt. (Max. 90 Minuten)\nIm Anschluss geht es noch zum Stammtisch. Auch hier besteht die Möglichkeit seine Fragen zu stellen.\nBitte meldet euch für den Stammtisch beim Franz separat anmelden an. \nBitte meldet euch verbindlich an\, wenn ihr an dem Gruppentreffen teilnehmen wollt. \nAbsagen müssen mind. 24 Stunden vorher schriftlich per E-Mail an muenchen [at] transmann.de erfolgen\, damit andere die Möglichkeit haben noch nachzurücken. \nFolgende Regeln gelten und müssen unbedingt eingehalten werden: \n\nPersonen mit Atemwegs-\, Erkältungssymptomen und/oder Fieber können an Gruppentreffen nicht teilnehmen.\n Der/ die Gruppenansprechpartner*in/Vertragspartner* in verpflichtet sich mit seiner /ihrer Unterschrift\, alle Informationen bezüglich der neuen Regeln an die Teilnehmer*innen des Gruppentreffens weiterzugeben und Sorge zu tragen\, dass\ndiese auch eingehalten werden.\nDie Dauer eines Treffens beträgt maximal 90 Minuten.\n\nBeim Betreten des SHZ ist auf folgendes zu achten: \n\nDas SHZ muss einzeln und mit einem Mund-Nasenschutz betreten werden. (Keine Gruppenbildung)\nAuch im Flur und im Treppenhaus müssen die Abstandsregeln eingehalten werden.\nVor dem Betreten der Gruppenräume müssen im Eingangsbereich die Hände mit\ndem Handdesinfektionsmittel desinfiziert werden.\nDie Toiletten dürfen nur einzeln und nacheinander betreten werden.\n\nGruppentreffen: \n\nDie Gruppenräume dürfen nur mit der angegebenen Personenanzahl genutzt\nwerden.\nDie Teilnehmer müssen sich in eine Teilnehmerliste eintragen. Die Liste wird von\ndem/der Gruppenansprechpartner*in/Vertragspartner*in 30 Tage lang aufbewahrt\,\nsiehe Datenschutzerklärung. Diese Teilnehmerlisten werden geführt\, um ggf.\nKontaktpersonen von an COVID-19 erkrankten Personen ausfindig zu machen und\nrechtzeitig verständigen zu können.\nWährend des Treffens darf der  Mund-Nasenschutz abgenommen.\nDie Husten- und Niesetikette ist einzuhalten (siehe Aushänge).\nDer Mindestabstand von 2m ist auch im Gruppenraum einzuhalten.\nDie Räume sind während und nach den Treffen zu belüften.\nEine Nutzung der Küchen ist nicht möglich.\nEs dürfen keine gemeinsamen Mahlzeiten/Snacks etc.  eingenommen werden. Getränke für den eigenen Bedarf dürfen mitgebracht werden.
URL:https://transmann.de/veranstaltung/treffen-der-regionalgruppe-muenchen-03-10-2020/
LOCATION:Bayern\, Deutschland
CATEGORIES:Gruppentreffen einer Regionalgruppe,Veranstaltung des TransMann e.V.
END:VEVENT
BEGIN:VEVENT
DTSTART;TZID=Europe/Berlin:20201003T180000
DTEND;TZID=Europe/Berlin:20201003T220000
DTSTAMP:20260423T151602
CREATED:20201002T081147Z
LAST-MODIFIED:20201002T081147Z
UID:10003319-1601748000-1601762400@transmann.de
SUMMARY:03.10.2020 - Stammtisch der Regionalgruppe München
DESCRIPTION:Treffpunkt: Beim Franz Maximale Teilnehmerzahl inkl. Gruppenleiter: 10 Beim Stammtisch können auch jederzeit Fragen zum Thema Trans* etc. gestellt werden. Bitte meldet euch verbindlich an\, damit wir dem Wirt bescheid geben können. Es gelten die allgemeinen Covid-19-Regelungen für die Gastronomie (Maskenpflicht beim Betreten und Verlassen des Lokals etc.) Vielen Dank
URL:https://transmann.de/veranstaltung/03-10-2020-stammtisch-der-regionalgruppe-muenchen/
LOCATION:Bayern\, Deutschland
CATEGORIES:Freizeitaktivität
END:VEVENT
END:VCALENDAR