BEGIN:VCALENDAR
VERSION:2.0
PRODID:-//TransMann e.V.® - ECPv6.15.20//NONSGML v1.0//EN
CALSCALE:GREGORIAN
METHOD:PUBLISH
X-ORIGINAL-URL:https://transmann.de
X-WR-CALDESC:Veranstaltungen für TransMann e.V.®
REFRESH-INTERVAL;VALUE=DURATION:PT1H
X-Robots-Tag:noindex
X-PUBLISHED-TTL:PT1H
BEGIN:VTIMEZONE
TZID:Europe/Berlin
BEGIN:DAYLIGHT
TZOFFSETFROM:+0100
TZOFFSETTO:+0200
TZNAME:CEST
DTSTART:20210328T010000
END:DAYLIGHT
BEGIN:STANDARD
TZOFFSETFROM:+0200
TZOFFSETTO:+0100
TZNAME:CET
DTSTART:20211031T010000
END:STANDARD
BEGIN:DAYLIGHT
TZOFFSETFROM:+0100
TZOFFSETTO:+0200
TZNAME:CEST
DTSTART:20220327T010000
END:DAYLIGHT
BEGIN:STANDARD
TZOFFSETFROM:+0200
TZOFFSETTO:+0100
TZNAME:CET
DTSTART:20221030T010000
END:STANDARD
BEGIN:DAYLIGHT
TZOFFSETFROM:+0100
TZOFFSETTO:+0200
TZNAME:CEST
DTSTART:20230326T010000
END:DAYLIGHT
BEGIN:STANDARD
TZOFFSETFROM:+0200
TZOFFSETTO:+0100
TZNAME:CET
DTSTART:20231029T010000
END:STANDARD
END:VTIMEZONE
BEGIN:VEVENT
DTSTART;TZID=Europe/Berlin:20221207T194500
DTEND;TZID=Europe/Berlin:20221207T213000
DTSTAMP:20260425T180652
CREATED:20220108T162513Z
LAST-MODIFIED:20220108T162513Z
UID:10003471-1670442300-1670448600@transmann.de
SUMMARY:TM e.V. - Live-Treffen der Regionalgruppe Stuttgart 7.12.2022
DESCRIPTION:Unsere Regionalgruppe Stuttgart bietet aktuell jeden 1. Mittwoch ab 19:45 Uhr ein Live-/Präsenztreffen in Selbsthilfezentrum KISS an. \nEs gelten die aktuellen Covid-19 Regeln. Bitte erkundigt euch ggf. vorher beim Gruppenleiter. \n\nDa sich aufgrund der Raumgröße nur max. 9 Personen inkl. Gruppenleiter treffen dürfen\, bitten wir für die Teilnahme an den Präsenztreffen um eine vorherige\, verbindliche Anmeldung.\n Hierzu bucht bitte einen Platz\, indem ihr unten auf “Reservieren” klickt und eure Kontaktdaten hinterlegt. \nWer kurzfristig absagen muss\, kann dies ebenfalls über diese Seite tun. Hierzu einfach auf “Kann nicht teilnehmen” klicken!\nDer Platz wird dann freigegeben und es kann jemand anderes nachrücken. \nThemenvorschlag: offener Austausch \n\nUnser Regionalgruppenleiter Alexander Leo freut sich schon sehr auf eure Teilnahme. \nAchtung: Kurzfristige Änderungen aufgrund von Covid-19 behalten wir uns vor.
URL:https://transmann.de/veranstaltung/tm-e-v-live-treffen-der-regionalgruppe-stuttgart-7-12-2022/
LOCATION:Deutschland
CATEGORIES:Gruppentreffen einer Regionalgruppe,Veranstaltung des TransMann e.V.
ATTACH;FMTTYPE=image/png:https://transmann.de/wp-content/uploads/2018/09/Stempel-RG_Stuttgart.png
END:VEVENT
BEGIN:VEVENT
DTSTART;TZID=Europe/Berlin:20221209T190000
DTEND;TZID=Europe/Berlin:20221209T220000
DTSTAMP:20260425T180652
CREATED:20220108T103653Z
LAST-MODIFIED:20220108T103653Z
UID:10003460-1670612400-1670623200@transmann.de
SUMMARY:TM e.V. - Live-Treffen der Regionalgruppe Köln 9.12.2022
DESCRIPTION:Unsere Regionalgruppe Köln bietet aktuell jeden 2. Freitag\, ab 19:00 Uhr ein Live-/Präsenztreffen an. \n\n\nAktuelle Corona-Regel: 3-G (kann sich jederzeit ändern\, bitte ggf. bei den Regionalgruppenleitern vorher erkundigen) \n\n\nSchriftlicher Nachweis\, dass man vollständig geimpft\, genesen oder getestet ist. Zertifikat im digitalen Impf-Pass geht auch.\nMaske tragen\, außer man sitzt am Platz\nDesinfizierung der Hände am Eingang des Rubicons\nGetränke / Essen für den Eigenbedarf bitte mitbringen.\n\nBitte registriert euch verbindlich für das Treffen über unser Anmeldeformular – es gibt aufgrund der Raumgröße leider nur begrenzt Plätze.\nSolltet ihr kurzfristig absagen müssen\, könnt ihr das auch hier über diese Veranstaltung. Der Platz wird dann wieder frei und es kann ggf. jemand anderes nachrücken. \nThemenvorschlag: Offener Austausch \n\nAurelius\, Philip und Nick freuen sich schon sehr auf dieses “Live-Treffen” \nAchtung: Kurzfristige Änderungen aufgrund von Covid-19 behalten wir uns vor.
URL:https://transmann.de/veranstaltung/tm-e-v-live-treffen-der-regionalgruppe-koeln-9-12-2022/
LOCATION:Deutschland
CATEGORIES:Gruppentreffen einer Regionalgruppe,Veranstaltung des TransMann e.V.
ATTACH;FMTTYPE=image/png:https://transmann.de/wp-content/uploads/2018/09/Stempel-RG_Koeln.png
END:VEVENT
BEGIN:VEVENT
DTSTART;TZID=Europe/Berlin:20221209T194500
DTEND;TZID=Europe/Berlin:20221209T213000
DTSTAMP:20260425T180652
CREATED:20220812T091713Z
LAST-MODIFIED:20220812T091713Z
UID:10003524-1670615100-1670621400@transmann.de
SUMMARY:TM e.V. - Hybrid-Treffen der RG Heidelberg 09.12.2022
DESCRIPTION:[infobox color=“#dd3333″ textcolor=“#ffffff“ icon=“info-circle“]LEIDER muss dieses Treffen krankheitsbedingt ausfallen![/infobox] \n  \nUnsere Regionalgruppe Heidelberg bietet aktuell jeden 2. Freitag\, ab 19:45Uhr ein Hybrid-Treffen an. \nWas bedeutet „Hybrid-Treffen genau? \n\n\nWir können mit einer kleinen Teilnehmer*innenzahl (max. 9 Personen inkl. 2 Gruppenleiter*innen) ein Präsenztreffen im Selbsthilfebüro Heidelberg (Gruppenraum 1.7) unter Einhaltung der aktuellen Corona-Regeln veranstalten\, zusätzlich können sich Teilnehmer*innen online über Microsoft Teams dazuschalten.\nEs ist kein Microsoft Konto notwendig\, man kann über die App oder über den Browser teilnehmen.\nMitgliedschaft im Verein ist nicht notwendig – Teilnehmer*innen aus dem ganzen Bundesgebiet sind herzlich willkommen! \n\nFür die Teilnahme an den Präsenztreffen muss eine vorherige\, verbindliche Anmeldung geschehen. Hierzu bucht bitte einen Platz.\nKlickt dafür einfach auf “Reservieren” und tragt eure Kontaktdaten ein.\nWer kurzfristig absagen muss\, kann dies ebenfalls über diese Seite tun. Hierzu einfach auf “Kann nicht teilnehmen” klicken!\nWir können dann den Platz wieder freigeben und es kann jemand anderes nachrutschen.\nFür die Online-Teilnahme ist keine Anmeldung notwendig! Hier bitte einfach am Tag der Veranstaltung auf “Teilnehmen” klicken!\n\n\nThemenvorschlag: Offener Austausch \nJede*r\,  kann daran teilnehmen. \nUnsere Regionalgruppenleiter freuen sich auf eure Teilnahme. \n\nAchtung: Kurzfristige Änderungen aufgrund von Covid-19 behalten wir uns vor. \n 
URL:https://transmann.de/veranstaltung/tm-e-v-hybrid-treffen-der-rg-heidelberg-09-12-2022/
LOCATION:https://teams.microsoft.com/l/meetup-join/19%3ameeting_YzJmNTcwMTEtMTEwZi00MGU4LTlmOTctOTM2ZjQxOWVlMWRi%40thread.v2/0?context=%7b%22Tid%22%3a%222358a119-0fee-4919-9e1a-6e8f09751687%22%2c%22Oid%22%3a%22072e66fc-8484-478a-b137-ce15920fc4c1%22%7d
CATEGORIES:Gruppentreffen einer Regionalgruppe,Veranstaltung des TransMann e.V.
ATTACH;FMTTYPE=image/png:https://transmann.de/wp-content/uploads/2020/07/RG_Heidelberg.png
END:VEVENT
BEGIN:VEVENT
DTSTART;TZID=Europe/Berlin:20221210T150000
DTEND;TZID=Europe/Berlin:20221210T170000
DTSTAMP:20260425T180652
CREATED:20220108T122419Z
LAST-MODIFIED:20220108T122419Z
UID:10003465-1670684400-1670691600@transmann.de
SUMMARY:TM e.V. - Hybrid-Austauschtreffen der RG Essen 10.12.2022
DESCRIPTION:Im Dezember 2022 veranstaltet die Regionalgruppe Essen ausnahmsweise das Hybrid-Austausch-Treffen am 2. Samstag im Monat von 15:00 – ca. 17:00 Uhr ! \nWas bedeutet Hybrid-Austauschtreffen genau? \nEine kleine Gruppe inkl. unserem Gruppenleiter Mario kann sich\, unter Einhaltung der aktuellen Corona-Regeln (bitte vorher beim Gruppenleiter nachfragen)\, in den Räumen der Aidshilfe Essen treffen. Zusätzlich können sich beliebig viele Teilnehmer*innen auch online über Microsoft Teams zu dem jeweiligen Treffen dazuschalten. \n\n\nFür die Teilnahme an den Präsenztreffen muss eine vorherige\, verbindliche Anmeldung geschehen. Hierzu bucht bitte einen Platz.\nKlickt bitte dafür auf “Reservieren” und tragt eure Kontaktdaten ein.\nWer kurzfristig absagen muss\, kann dies ebenfalls über diese Seite tun.\nHierzu einfach auf “Kann nicht teilnehmen” klicken!\nFür die Online-Teilnahme ist keine Anmeldung notwendig! Hier bitte einfach am Tag der Veranstaltung auf “Online Teilnehmen” klicken!\n\nThemenvorschlag: Offener Austausch\n\n \nTeilnehmen kann jede*r\, eine Mitgliedschaft oder en Microsoft Konto sind nicht notwendig!\nTeilnehmer*innen aus dem ganzen Bundesgebiet sind herzlich willkommen!\n\nMario unser Gruppenleiter freut sich sehr über eure Teilnahme! \nAchtung: Kurzfristige Änderungen aufgrund von Covid-19 behalten wir uns vor.
URL:https://transmann.de/veranstaltung/tm-e-v-hybrid-austauschtreffen-der-rg-essen-10-12-2022/
LOCATION:https://teams.microsoft.com/l/meetup-join/19%3ameeting_YTBkZDc5NGEtMjRjNi00NGNjLWJhOTAtODcwN2ZkNTBhZGY4%40thread.v2/0?context=%7b%22Tid%22%3a%222358a119-0fee-4919-9e1a-6e8f09751687%22%2c%22Oid%22%3a%22c451e7fc-6636-43dd-9e30-fb7e9734378d%22%7d
CATEGORIES:Gruppentreffen einer Regionalgruppe,Hybridveranstaltung,Veranstaltung des TransMann e.V.
END:VEVENT
BEGIN:VEVENT
DTSTART;TZID=Europe/Berlin:20221220T180000
DTEND;TZID=Europe/Berlin:20221220T200000
DTSTAMP:20260425T180652
CREATED:20220109T114331Z
LAST-MODIFIED:20220109T114331Z
UID:10003475-1671559200-1671566400@transmann.de
SUMMARY:TM e.V. - Live-Treffen der RGe Paderborn 20-12-2022 - Abgesagt
DESCRIPTION:Wir freuen uns\, dass trotz der anhaltenden Pandemiezeit nun in Paderborn auch Live-Treffen stattfinden können.\nDies ist  allerdings  nur unter Berücksichtigung  und Einhaltung der aktuell geltenden Covid-19-Regelungen möglich. Bitte erkundigt euch ggf. bei den Gruppenleitern nach dem aktuellen Stand. \nDie Live-Treffen finden in den Räumlichkeiten der “Queeren Jugendgruppe Ohana” in der Schulze-Delitzsch-Strasse 28 in Paderborn statt. \nBitte registriert euch verbindlich für das Treffen über unser Anmeldeformular – es gibt aufgrund der Raumgröße leider nur begrenzt Plätze.\nSolltet ihr kurzfristig absagen müssen\, könnt ihr das auch hier über diese Veranstaltung. Der Platz wird dann wieder frei und es kann ggf. jemand anderes nachrücken. \nThemenvorschlag: Offener Austausch \nJede*r\,  kann daran teilnehmen\, eine Mitgliedschaft im Verein ist nicht zwingend notwendig. \nBen und York\, unsere Paderborner Regionalgruppenleiter\,  freuen sich auf euch! \nAchtung: Kurzfristige Änderungen behalten wir uns vor!
URL:https://transmann.de/veranstaltung/tm-e-v-live-treffen-der-regionalgruppe-paderborn-20-12-2022/
LOCATION:Deutschland
CATEGORIES:Gruppentreffen einer Regionalgruppe,Veranstaltung des TransMann e.V.
ATTACH;FMTTYPE=image/png:https://transmann.de/wp-content/uploads/2020/06/Stempel-RG_Paderborn.png
END:VEVENT
END:VCALENDAR