BEGIN:VCALENDAR
VERSION:2.0
PRODID:-//TransMann e.V.® - ECPv6.15.20//NONSGML v1.0//EN
CALSCALE:GREGORIAN
METHOD:PUBLISH
X-WR-CALNAME:TransMann e.V.®
X-ORIGINAL-URL:https://transmann.de
X-WR-CALDESC:Veranstaltungen für TransMann e.V.®
REFRESH-INTERVAL;VALUE=DURATION:PT1H
X-Robots-Tag:noindex
X-PUBLISHED-TTL:PT1H
BEGIN:VTIMEZONE
TZID:Europe/Berlin
BEGIN:DAYLIGHT
TZOFFSETFROM:+0100
TZOFFSETTO:+0200
TZNAME:CEST
DTSTART:20210328T010000
END:DAYLIGHT
BEGIN:STANDARD
TZOFFSETFROM:+0200
TZOFFSETTO:+0100
TZNAME:CET
DTSTART:20211031T010000
END:STANDARD
BEGIN:DAYLIGHT
TZOFFSETFROM:+0100
TZOFFSETTO:+0200
TZNAME:CEST
DTSTART:20220327T010000
END:DAYLIGHT
BEGIN:STANDARD
TZOFFSETFROM:+0200
TZOFFSETTO:+0100
TZNAME:CET
DTSTART:20221030T010000
END:STANDARD
BEGIN:DAYLIGHT
TZOFFSETFROM:+0100
TZOFFSETTO:+0200
TZNAME:CEST
DTSTART:20230326T010000
END:DAYLIGHT
BEGIN:STANDARD
TZOFFSETFROM:+0200
TZOFFSETTO:+0100
TZNAME:CET
DTSTART:20231029T010000
END:STANDARD
END:VTIMEZONE
BEGIN:VEVENT
DTSTART;TZID=Europe/Berlin:20220906T170000
DTEND;TZID=Europe/Berlin:20220906T190000
DTSTAMP:20260422T122658
CREATED:20220904T034312Z
LAST-MODIFIED:20220904T034312Z
UID:10003526-1662483600-1662490800@transmann.de
SUMMARY:Mahnwache für Malte C. in Köln
DESCRIPTION:Justin\, ein Teilnehmer der Rubicon Gruppe aus Köln\,  hat eine Mahnwache auf der Domplatte in Köln organisiert.\nHier der Originaltext der uns erreichte und den wir hier auch gerne teilen: \nHallo zusammen\, \nnachdem ich heute die traurige Mitteilung erhielt\, dass der Transmann Malte den Angriff am Csd in Münster nicht überlebt hat\, habe ich eine Mahnwache angemeldet.\nUns Teilnehmer der Rubicon Gruppe in Köln hat diese Nachricht sehr erschüttert. \nWir würden uns sehr freuen\, wenn du auch zu unserer Gedenkfeier am 6.9.2022 auf der Domplatte in Köln kommen würdest.\nAufbau ab 16:20 Uhr.\nMahnwache 17-19 Uhr\nDas Anyway in Köln bietet am Sonntag an bei ihnen Plakate zu basteln. \n(Sonntag 13-18 Uhr in der Charlierstr. 11\, 50672 Köln\,\nnahe der Grünstraße oder auch Wiener Platz\ninkl. veganen Essen) \nMalte hatte Zivilcourage und ich wir möchten unseren Respekt erweisen und ein Zeichen gegen Gewalt setzen. \nBringe gerne Kerzen\, Plakate oder Flaggen mit. \nTeile dieses Reel https://www.instagram.com/reel/CiAardBqhQD/?igshid=YmMyMTA2M2Y= gerne. Danke ❤️🏳️‍🌈🏳️‍⚧️ \n#lgbt #lgbtq #gegengewalt #trans #transgender #transgendergermany #köln #mahnwache
URL:https://transmann.de/veranstaltung/mahnwache-fuer-malte-c-in-koeln/
LOCATION:Deutschland
CATEGORIES:Freizeitaktivität,Fremdveranstaltung
ATTACH;FMTTYPE=image/jpeg:https://transmann.de/wp-content/uploads/2022/09/Mahnwache-Malte-Essen.jpg
END:VEVENT
BEGIN:VEVENT
DTSTART;TZID=Europe/Berlin:20220909T180000
DTEND;TZID=Europe/Berlin:20220909T203000
DTSTAMP:20260422T122658
CREATED:20220107T170821Z
LAST-MODIFIED:20230114T044522Z
UID:10003443-1662746400-1662755400@transmann.de
SUMMARY:TM e.V. – Live-Austauschtreffen der RG Bielefeld
DESCRIPTION:Die aktuelle Covid-19 Situation ermöglicht\, dass unsere Regionalgruppe Bielefeld  Live-Gruppentreffen anbieten kann. \n\nEs gelten die aktuellen Covid-19-Regeln\, ggf. erkundigt euch vorher beim Gruppenleiter.\n\n\n2-G-Regeln (vollständig geimpft oder genesen)\n-> Bitte Nachweis z.B. digitalen Impfpass und Ausweis mitbringen!\nMaske tragen\, außer man sitzt am Platz\nAbstand- und Hygieneregelung beachten\nAufgrund der Raumgröße dürfen nur max. 8 Personen inkl. Gruppenleitung teilnehmen.\nEigene Getränke für den Eigenbedarf mitbringen.\nEs kann nicht vor Ort getestet werden!\n\nBitte registriert euch verbindlich hier für das Treffen – es gibt leider aufgrund der Raumgröße nur begrenzte Plätze.\nSolltet ihr kurzfristig absagen müssen\, könnt ihr das auch hier über diese Veranstaltung. \n\nOskar \, unser Gruppenleiter freut sich schon sehr auf dieses “Live-Treffen” \nAchtung: Kurzfristige Änderungen aufgrund von Covid-19 behalten wir uns vor.
URL:https://transmann.de/veranstaltung/tm-e-v-live-austauschtreffen-der-rg-bielefeld-8/
LOCATION:Deutschland
CATEGORIES:Gruppentreffen einer Regionalgruppe,Veranstaltung des TransMann e.V.
ATTACH;FMTTYPE=image/png:https://transmann.de/wp-content/uploads/2018/09/Stempel-RG_Bielefeld.png
END:VEVENT
BEGIN:VEVENT
DTSTART;TZID=Europe/Berlin:20220909T193000
DTEND;TZID=Europe/Berlin:20220909T213000
DTSTAMP:20260422T122658
CREATED:20220812T091532Z
LAST-MODIFIED:20220812T091532Z
UID:10003521-1662751800-1662759000@transmann.de
SUMMARY:TM e.V. - Online-Treffen der RG Heidelberg 09.09.2022
DESCRIPTION:Unsere Regionalgruppe Heidelberg bietet aktuell jeden 2. Freitag\, ab 19:30 Uhr ein Hybrid-Treffen an. \nHeute findet das Treffen nur online statt.  \n\nThemenvorschlag: Offener Austausch \nJede*r\,  kann daran teilnehmen. \nDa unsere Heidelberger Gruppenleider verhindert sind\, wird Mario\, unser Leiter der Regionalgruppe Essen und Vorstandsmitgliede\, die Leitung des Onlinetreffens übernehmen. \n\n 
URL:https://transmann.de/veranstaltung/tm-e-v-hybrid-treffen-der-rg-heidelberg-09-09-2022/
LOCATION:https://teams.microsoft.com/l/meetup-join/19%3ameeting_YzJmNTcwMTEtMTEwZi00MGU4LTlmOTctOTM2ZjQxOWVlMWRi%40thread.v2/0?context=%7b%22Tid%22%3a%222358a119-0fee-4919-9e1a-6e8f09751687%22%2c%22Oid%22%3a%22072e66fc-8484-478a-b137-ce15920fc4c1%22%7d
CATEGORIES:Gruppentreffen einer Regionalgruppe,Veranstaltung des TransMann e.V.
ATTACH;FMTTYPE=image/png:https://transmann.de/wp-content/uploads/2020/07/RG_Heidelberg.png
END:VEVENT
BEGIN:VEVENT
DTSTART;TZID=Europe/Berlin:20220917T130000
DTEND;TZID=Europe/Berlin:20220917T153000
DTSTAMP:20260422T122658
CREATED:20220908T170051Z
LAST-MODIFIED:20220908T170051Z
UID:10003525-1663419600-1663428600@transmann.de
SUMMARY:TM e.V. – Homepage Workshop
DESCRIPTION:Der Webauftritt des TransMann e.V. ist mittlerweile auch in die Jahre gekommen und bedarf einer Überarbeitung. \nDoch nicht im stillen Kämmerlein\, sondern mit euch gemeinsam. Immerhin ist der Besucher einer Webseite der „Gast“ und wie sagt man so schön? Der Gast ist König. Es sollten sich so viele wie möglich mit der Webseite identifizieren können und vor allem auch gerne hier Zeit verbringen. \nZusätzlich haben wir\, der Vorstand\, natürlich auch noch ein paar Eckpunkte\, die es haben muss. \n  \nLasst uns gemeinsam in einem Workshop einen Fahrplan für den neuen Webauftritt erstellen und vielleicht sogar schon einen ersten ganz groben Entwurf. Also packt eure mentalen Pinsel und Farbkästen ein und helft uns beim Erschaffen eines neuen Webauftrittes. \nWir freuen uns auf zahlreiche Teilnahme!
URL:https://transmann.de/veranstaltung/tm-e-v-homepage-workshop/
LOCATION:https://teams.microsoft.com/l/meetup-join/19%3ameeting_NzgzZjBhNzgtNTVmOC00M2YwLThlMWEtNzZlYTgwNjM5NDZh%40thread.v2/0?context=%7b%22Tid%22%3a%222358a119-0fee-4919-9e1a-6e8f09751687%22%2c%22Oid%22%3a%227f14c5df-36d9-46a4-a304-0a673efd315d%22%7d
CATEGORIES:Hybridveranstaltung,Veranstaltung des TransMann e.V.,Workshop
ATTACH;FMTTYPE=image/jpeg:https://transmann.de/wp-content/uploads/2022/09/pexels-tranmautritam-251225-scaled.jpg
END:VEVENT
BEGIN:VEVENT
DTSTART;TZID=Europe/Berlin:20220930T190000
DTEND;TZID=Europe/Berlin:20220930T210000
DTSTAMP:20260422T122658
CREATED:20220925T070120Z
LAST-MODIFIED:20220925T070120Z
UID:10003557-1664564400-1664571600@transmann.de
SUMMARY:Fremdveranstaltung: Tanzen: Neuer Anfänger*innen-Kurs startet in München
DESCRIPTION:Tanzen: Neuer Anfänger*innen-Kurs startet\nAm 30.9. startet ein neuer Kurs für alle\, die Spaß am Gesellschaftstanzen verspüren. \nEndlich\, der neue Einsteigerkurs Gesellschaftstanz kann starten! Los geht´s am 30. September. \nAb diesem Termin tanzen wir Standard\, Latein\, DiscoFox und Salsa immer freitags von 19:00 bis 20:30 Uhr in der Turnhalle des Maria-Theresia-Gymnasiums am Regerplatz 1 (Au). Der Kurs ist\, wie bereits 2021\, als fortwährendes Basis-Angebot (Grundschritte plus die wichtigsten Figuren in allen Tänzen) konzipiert. So ist der Abend nicht nur für klassische Anfänger*innen\, sondern auch für Leute\, die einmal Führungswechsel probieren oder generell mehr tanzen und Basics wiederholen möchten\, geeignet. \nAnmeldungen sind nicht nötig. Kommt einfach vorbei\, es gibt keine Obergrenze an Teilnehmer*innen\, die Halle ist groß und wir nehmen alle mit. Single-Tänzer*innen kommen natürlich auch. Ich werde eine Liste aller Partnersuchenden führen\, um euch so gut es geht zu „verkuppeln“ 😉 \nWer am 30.9. noch nicht dabei sein kann\, kommt einfach an einem der nächsten Termine. Ihr könnt jederzeit einsteigen\, auch längere Pausen (Urlaub etc.) kann man bei diesem System gut verkraften 😉 \nZeit: 19:00 – 20:30 Uhr\nOrt: Maria-Theresia-Gymnasium\, Regerplatz 1\nEintritt: frei\nVeranstalter: Tanzteam im Team München e.V.\nWebadresse: www.teammuenchen.de/tanzen\nEmail-Adresse: tanzen@teammuenchen.de
URL:https://transmann.de/veranstaltung/fremdveranstaltung-tanzen-neuer-anfaengerinnen-kurs-startet-in-muenchen/
LOCATION:Deutschland
CATEGORIES:Freizeitaktivität,Fremdveranstaltung
ATTACH;FMTTYPE=image/gif:https://transmann.de/wp-content/uploads/2022/09/ttmlogo2014-farbe-400px.gif
END:VEVENT
END:VCALENDAR