BEGIN:VCALENDAR
VERSION:2.0
PRODID:-//TransMann e.V.® - ECPv6.15.20//NONSGML v1.0//EN
CALSCALE:GREGORIAN
METHOD:PUBLISH
X-WR-CALNAME:TransMann e.V.®
X-ORIGINAL-URL:https://transmann.de
X-WR-CALDESC:Veranstaltungen für TransMann e.V.®
REFRESH-INTERVAL;VALUE=DURATION:PT1H
X-Robots-Tag:noindex
X-PUBLISHED-TTL:PT1H
BEGIN:VTIMEZONE
TZID:Europe/Berlin
BEGIN:DAYLIGHT
TZOFFSETFROM:+0100
TZOFFSETTO:+0200
TZNAME:CEST
DTSTART:20210328T010000
END:DAYLIGHT
BEGIN:STANDARD
TZOFFSETFROM:+0200
TZOFFSETTO:+0100
TZNAME:CET
DTSTART:20211031T010000
END:STANDARD
BEGIN:DAYLIGHT
TZOFFSETFROM:+0100
TZOFFSETTO:+0200
TZNAME:CEST
DTSTART:20220327T010000
END:DAYLIGHT
BEGIN:STANDARD
TZOFFSETFROM:+0200
TZOFFSETTO:+0100
TZNAME:CET
DTSTART:20221030T010000
END:STANDARD
BEGIN:DAYLIGHT
TZOFFSETFROM:+0100
TZOFFSETTO:+0200
TZNAME:CEST
DTSTART:20230326T010000
END:DAYLIGHT
BEGIN:STANDARD
TZOFFSETFROM:+0200
TZOFFSETTO:+0100
TZNAME:CET
DTSTART:20231029T010000
END:STANDARD
END:VTIMEZONE
BEGIN:VEVENT
DTSTART;TZID=Europe/Berlin:20220803T190000
DTEND;TZID=Europe/Berlin:20220803T213000
DTSTAMP:20260420T104230
CREATED:20220108T161627Z
LAST-MODIFIED:20220108T161627Z
UID:10003470-1659553200-1659562200@transmann.de
SUMMARY:TM e.V. - Live-Treffen der Regionalgruppe Stuttgart 03.08.2022
DESCRIPTION:[marker color=“#eeee22″ textcolor=“#000000″]Achtung kurzfristige Änderung.[/marker] \nDa aktuell das Selbsthilfezentrum KISS den Raum nicht zur Verfügung stellen kann\, trifft sich unsere Regionalgruppe Stuttgart szum lockeren Austausch heute im „Biergarten“ (Aussenbereich) des Bernstein \nWann: ab 19 Uhr\nWo: Aussenbereich des Bernstein in der Pfarrstrasse 7 in 70182 Stuttgart! \nDie Reservierung im Biergarten läuft auf „Alexander Häfner“. Fragt einfach bei der Bedienung nach.\nWer Alex noch nicht kennt – er  wird voraussichtlich ein T-Shirt mit dem Captain America Schild auf der Brust tragen. \n\nUnser Regionalgruppenleiter Alexander Leo freut sich schon sehr auf eure Teilnahme. \n\nAchtung: Kurzfristige Änderungen aufgrund von Covid-19 behalten wir uns vor.
URL:https://transmann.de/veranstaltung/tm-e-v-live-treffen-der-regionalgruppe-stuttgart-7/
LOCATION:Deutschland
CATEGORIES:Gruppentreffen einer Regionalgruppe,Veranstaltung des TransMann e.V.
ATTACH;FMTTYPE=image/png:https://transmann.de/wp-content/uploads/2018/09/Stempel-RG_Stuttgart.png
END:VEVENT
BEGIN:VEVENT
DTSTART;TZID=Europe/Berlin:20220805T200000
DTEND;TZID=Europe/Berlin:20220805T223000
DTSTAMP:20260420T104230
CREATED:20220108T062644Z
LAST-MODIFIED:20220108T062644Z
UID:10003457-1659729600-1659738600@transmann.de
SUMMARY:TM e.V. - Online-Austauschtreffen der RG Köln 05.08.2022
DESCRIPTION:Jeden ersten Freitag im Monat\, von 20:00  bis ca. 22:30 Uhr\,  findet immer ein Online-Treffen der Regionalgruppe Köln statt. \nHeute am 05. August 2022  hält  unser Gruppenleiter Philip einen kleinen Online-Vortrag zum Thema „Vornamens- und Personenstandsänderung (VÄ/PÄ) mit ein paar ergänzenden Eckpunkten für das Selbstbestimmungsgesetz“ \nJede/r kann daran teilnehmen.\nEs ist keine Anmeldung oder eine Mitgliedschaft im Verein notwendig. \nUnsere Gruppenleiter\, Philip\, Nick und Aurelius freuen sich über deine Teilnahme.
URL:https://transmann.de/veranstaltung/tm-e-v-online-austauschtreffen-der-rg-koeln-2022-08-05/
LOCATION:https://teams.microsoft.com/l/meetup-join/19%3ameeting_NTAyZTQxMDktOTEyNi00OTc3LWE4OWMtYmFhZmI3OTYwMjc0%40thread.v2/0?context=%7b%22Tid%22%3a%222358a119-0fee-4919-9e1a-6e8f09751687%22%2c%22Oid%22%3a%22f742e394-a2a7-444c-a45c-025324bc6db4%22%7d
CATEGORIES:Gruppentreffen einer Regionalgruppe,Online-Veranstaltung,Veranstaltung des TransMann e.V.
ATTACH;FMTTYPE=image/png:https://transmann.de/wp-content/uploads/2018/09/Stempel-RG_Koeln.png
END:VEVENT
BEGIN:VEVENT
DTSTART;TZID=Europe/Berlin:20220806T150000
DTEND;TZID=Europe/Berlin:20220806T170000
DTSTAMP:20260420T104230
CREATED:20220108T120835Z
LAST-MODIFIED:20220108T120835Z
UID:10003463-1659798000-1659805200@transmann.de
SUMMARY:TM e.V. - Kein Hybrid-Austauschtreffen der RG Essen
DESCRIPTION:Heute findet kein Hybrid-Austauschtreffen statt. Die RG Essen ist mit einem Infostand auf dem CSD vertreten. \nSchaut doch einfach mal dort vorbei! \n 
URL:https://transmann.de/veranstaltung/tm-e-v-hybrid-austauschtreffen-der-rg-essen-7/
LOCATION:https://teams.microsoft.com/l/meetup-join/19%3ameeting_YTBkZDc5NGEtMjRjNi00NGNjLWJhOTAtODcwN2ZkNTBhZGY4%40thread.v2/0?context=%7b%22Tid%22%3a%222358a119-0fee-4919-9e1a-6e8f09751687%22%2c%22Oid%22%3a%22c451e7fc-6636-43dd-9e30-fb7e9734378d%22%7d
CATEGORIES:Gruppentreffen einer Regionalgruppe,Hybridveranstaltung,Veranstaltung des TransMann e.V.
END:VEVENT
BEGIN:VEVENT
DTSTART;TZID=Europe/Berlin:20220812T193000
DTEND;TZID=Europe/Berlin:20220812T213000
DTSTAMP:20260420T104230
CREATED:20220812T090708Z
LAST-MODIFIED:20220812T090708Z
UID:10003520-1660332600-1660339800@transmann.de
SUMMARY:TM e.V. - Online-Austausch der RG Heidelberg 12.08.2022
DESCRIPTION:Heute findet ein reines Online-Austauschtreffen der Regionalgruppe Heidelberg statt. \nDas Online-Treffen findet über Microsoft Teams statt.\nEine Anmeldung ist nicht notwendig. Einfach anklicken und teilnehmen.  \n\nEs sind ALLE\, egal ob fzm-trans*\, inter*\, nicht-binär\, queer sowie auch die Angehörigen\, Partner*innen und Allies aus dem gesamt deutschsprachigen Raum eingeladen an dem Austausch teilzunehmen. \nWir freuen uns sehr auf eure Teilnahme\, Anregungen\, Wünsche sowie einen gemeinsamen Austausch.
URL:https://transmann.de/veranstaltung/tm-e-v-online-austausch-der-rg-heidelberg-12-08-2022/
LOCATION:https://teams.microsoft.com/l/meetup-join/19%3ameeting_YzJmNTcwMTEtMTEwZi00MGU4LTlmOTctOTM2ZjQxOWVlMWRi%40thread.v2/0?context=%7b%22Tid%22%3a%222358a119-0fee-4919-9e1a-6e8f09751687%22%2c%22Oid%22%3a%22072e66fc-8484-478a-b137-ce15920fc4c1%22%7d
CATEGORIES:Gruppentreffen einer Regionalgruppe,Online-Veranstaltung,Veranstaltung des TransMann e.V.
ATTACH;FMTTYPE=image/png:https://transmann.de/wp-content/uploads/2020/07/RG_Heidelberg.png
END:VEVENT
BEGIN:VEVENT
DTSTART;TZID=Europe/Berlin:20220820T130000
DTEND;TZID=Europe/Berlin:20220820T200000
DTSTAMP:20260420T104230
CREATED:20220107T152330Z
LAST-MODIFIED:20220107T152330Z
UID:10003441-1661000400-1661025600@transmann.de
SUMMARY:TM e.V. - RG München Ausflug 20.08.2022 Tierpark Hellabrunn!
DESCRIPTION:Die Entscheidung ist gefallen!\nDa das Wetter am Samstag\, den 20.08.2022 leider nicht zum Grillen an der Isar geeignet ist\, werden wir gemeinsam in den Tierpark Hellabrunn gehen. \nWir treffen uns um 13:00 Uhr an  Isar-Eingang Tierpark Hellabrunn! \nEintritt:\nErwachsene: 18 Euro\nSchüler*innen/Student*innen: 13 Euro\nVereinsmitglieder bekommen gegen Vorlage des Mitgliedsausweises vom Verein 50% Zuschuss! \nSofern der Sommer es gut meint\, werden wir das Grillen an der Isar an einem anderen Wochenende planen.
URL:https://transmann.de/veranstaltung/tm-e-v-rg-muenchen-ausflug/
LOCATION:Deutschland
CATEGORIES:Freizeitaktivität,Gruppentreffen einer Regionalgruppe,Veranstaltung des TransMann e.V.
ATTACH;FMTTYPE=image/png:https://transmann.de/wp-content/uploads/2018/09/Stempel-RG_Muenchen.png
END:VEVENT
END:VCALENDAR