BEGIN:VCALENDAR
VERSION:2.0
PRODID:-//TransMann e.V.® - ECPv6.15.20//NONSGML v1.0//EN
CALSCALE:GREGORIAN
METHOD:PUBLISH
X-ORIGINAL-URL:https://transmann.de
X-WR-CALDESC:Veranstaltungen für TransMann e.V.®
REFRESH-INTERVAL;VALUE=DURATION:PT1H
X-Robots-Tag:noindex
X-PUBLISHED-TTL:PT1H
BEGIN:VTIMEZONE
TZID:Europe/Berlin
BEGIN:DAYLIGHT
TZOFFSETFROM:+0100
TZOFFSETTO:+0200
TZNAME:CEST
DTSTART:20200329T010000
END:DAYLIGHT
BEGIN:STANDARD
TZOFFSETFROM:+0200
TZOFFSETTO:+0100
TZNAME:CET
DTSTART:20201025T010000
END:STANDARD
BEGIN:DAYLIGHT
TZOFFSETFROM:+0100
TZOFFSETTO:+0200
TZNAME:CEST
DTSTART:20210328T010000
END:DAYLIGHT
BEGIN:STANDARD
TZOFFSETFROM:+0200
TZOFFSETTO:+0100
TZNAME:CET
DTSTART:20211031T010000
END:STANDARD
BEGIN:DAYLIGHT
TZOFFSETFROM:+0100
TZOFFSETTO:+0200
TZNAME:CEST
DTSTART:20220327T010000
END:DAYLIGHT
BEGIN:STANDARD
TZOFFSETFROM:+0200
TZOFFSETTO:+0100
TZNAME:CET
DTSTART:20221030T010000
END:STANDARD
END:VTIMEZONE
BEGIN:VEVENT
DTSTART;TZID=Europe/Berlin:20210822T150000
DTEND;TZID=Europe/Berlin:20210822T170000
DTSTAMP:20260423T123232
CREATED:20210804T013336Z
LAST-MODIFIED:20210804T013336Z
UID:10003397-1629644400-1629651600@transmann.de
SUMMARY:Fremdveranstaltung: Online Stammtisch für alle des Transmann Stammtisches Münster
DESCRIPTION:Unregelmässig bieten wir einen online Stammtisch mit Selbsthilfe-Charakter an. Nächster Termin: 22. August 2021 von 15-17 Uhr. \nhttps://meet.jit.si/TransmannStammtischMuenster \nLasst Euch vom Titel des Links nicht verwirren: eingeladen sind alle (nicht nur die aus Münster). \nDie Gruppe wird moderiert\, entweder von Mikka oder von Felix.\nWillkommen sind Transjungs\, Transmänner oder Menschen\, die für sich über das Thema Transmännlichkeit nachdenken.\nAuch als non binary bist Du willkommen.
URL:https://transmann.de/veranstaltung/fremdveranstaltung-online-stammtisch-fuer-alle-des-transmann-stammtisches-muenster/
LOCATION:
CATEGORIES:Fremdveranstaltung,Online-Veranstaltung
ATTACH;FMTTYPE=image/jpeg:https://transmann.de/wp-content/uploads/2021/05/TIMS_Logo_m2.jpg
END:VEVENT
BEGIN:VEVENT
DTSTART;TZID=Europe/Berlin:20210827T190000
DTEND;TZID=Europe/Berlin:20210827T213000
DTSTAMP:20260423T123232
CREATED:20220908T160139Z
LAST-MODIFIED:20230114T044547Z
UID:10003530-1630090800-1630099800@transmann.de
SUMMARY:TM e.V. - Online-Austauschtreffen der RG Heidelberg
DESCRIPTION:Aufgrund der aktuellen Covid-19-Situation können im Moment leider keine live-Treffen der Regionalgruppe Heidelberg stattfinden \nAus diesem Grund veranstalten wir Online-Treffen über Zoom.\nJede*r kann daran teilnehmen\, eine Mitgliedschaft im Verein ist nicht zwingend notwendig. \nUnsere Regionalgruppenleiter/Moderatoren Andros\, Tom und Tino freuen sich auf eure/ihre Teilnahme.
URL:https://transmann.de/veranstaltung/tm-e-v-online-austauschtreffen-der-rg-heidelberg/2021-08-27/
LOCATION:https://transmann.de/veranstaltung/tm-e-v-online-austauschtreffen-der-rg-heidelberg/2021-08-27/
CATEGORIES:Gruppentreffen einer Regionalgruppe,Online-Veranstaltung,Veranstaltung des TransMann e.V.
ATTACH;FMTTYPE=image/png:https://transmann.de/wp-content/uploads/2020/07/RG_Heidelberg.png
END:VEVENT
END:VCALENDAR