BEGIN:VCALENDAR
VERSION:2.0
PRODID:-//TransMann e.V.® - ECPv6.15.20//NONSGML v1.0//EN
CALSCALE:GREGORIAN
METHOD:PUBLISH
X-WR-CALNAME:TransMann e.V.®
X-ORIGINAL-URL:https://transmann.de
X-WR-CALDESC:Veranstaltungen für TransMann e.V.®
REFRESH-INTERVAL;VALUE=DURATION:PT1H
X-Robots-Tag:noindex
X-PUBLISHED-TTL:PT1H
BEGIN:VTIMEZONE
TZID:Europe/Berlin
BEGIN:DAYLIGHT
TZOFFSETFROM:+0100
TZOFFSETTO:+0200
TZNAME:CEST
DTSTART:20200329T010000
END:DAYLIGHT
BEGIN:STANDARD
TZOFFSETFROM:+0200
TZOFFSETTO:+0100
TZNAME:CET
DTSTART:20201025T010000
END:STANDARD
BEGIN:DAYLIGHT
TZOFFSETFROM:+0100
TZOFFSETTO:+0200
TZNAME:CEST
DTSTART:20210328T010000
END:DAYLIGHT
BEGIN:STANDARD
TZOFFSETFROM:+0200
TZOFFSETTO:+0100
TZNAME:CET
DTSTART:20211031T010000
END:STANDARD
BEGIN:DAYLIGHT
TZOFFSETFROM:+0100
TZOFFSETTO:+0200
TZNAME:CEST
DTSTART:20220327T010000
END:DAYLIGHT
BEGIN:STANDARD
TZOFFSETFROM:+0200
TZOFFSETTO:+0100
TZNAME:CET
DTSTART:20221030T010000
END:STANDARD
END:VTIMEZONE
BEGIN:VEVENT
DTSTART;TZID=Europe/Berlin:20210703T150000
DTEND;TZID=Europe/Berlin:20210703T173000
DTSTAMP:20260423T153557
CREATED:20210913T140129Z
LAST-MODIFIED:20230114T044505Z
UID:10003390-1625324400-1625333400@transmann.de
SUMMARY:TM e.V. - Gruppentreffen der RG Essen
DESCRIPTION:Die aktuelle Covid-19 Situation ermöglicht\, dass unsere Regionalgruppe Essen wieder Live-Gruppentreffen anbieten kann \nDaher findet am Samstag\, den 11. Oktober 2021 von 15:00 bis 17:00 Uhr wieder ein Gruppentreffen in der Aidshilfe Essen\,  Varnhorststr. 17 statt. \n\nBitte haltet euch an die aktuellen Covid-19-Regeln.\n\n\n3-G-Regeln (vollständig geimpft\, genesen innerhalb der letzten 6 Monate oder getestet)\n-> Bitte Nachweis z.B. digitalen Impfpass mitbringen!\nMaske tragen\, außer man sitzt am Platz\nAbstand- und Hygieneregelung beachten\nAufgrund der Raumgröße dürfen nur max. 10 Personen inkl. Gruppenleitung teilnehmen.\nEigene Getränke für den Verzehr mitbringen.\n\nBitte registriert euch verbindlich hier für das Treffen – es gibt leider aufgrund der Raumgröße nur begrenzte Plätze.\nSolltet ihr kurzfristig absagen müssen\, könnt ihr das auch hier über diese Veranstaltung. \n\nMario\, unser Gruppenleiter freut sich schon sehr auf dieses „Live-Treffen“ \nAchtung: Kurzfristige Änderungen aufgrund von Covid-19 behalten wir uns vor.
URL:https://transmann.de/veranstaltung/tm-e-v-gruppentreffen-der-rg-essen-4/
LOCATION:Deutschland
CATEGORIES:Gruppentreffen einer Regionalgruppe,Veranstaltung des TransMann e.V.
END:VEVENT
BEGIN:VEVENT
DTSTART;TZID=Europe/Berlin:20210703T160000
DTEND;TZID=Europe/Berlin:20210703T180000
DTSTAMP:20260423T153557
CREATED:20210406T160538Z
LAST-MODIFIED:20210406T160538Z
UID:10003375-1625328000-1625335200@transmann.de
SUMMARY:TM e.V. - Online-Austausch der RG München ohne Moderation/Gruppenleiter!
DESCRIPTION:Leider können die Regionalgruppenleiter Jonas und Christian das heutige Treffen nicht moderieren.  Sie sind auf einer Parallelveranstaltung u.a. als Podiumsgäste.\nDer Raum steht aber trotzen offen und ihr könnt ihn für einen persönlichen Austausch untereinander nutzen.\nRespektvoller Umgang untereinander setzen wir voraus! \nZusätzlich findet heute auch das Angertor-Straßenfest als Onlineveranstaltung statt. Dort steh unser Vorstandsmitglied Alex am virtuellen Stand des TransMann e.V. für Fragen gerne zur Verfügung\nAlle Infos dazu findet ihr auf: \nhttps://transmann.de/event/fremdveranstaltung-15-lesbisches-angertor-strassenfest/ \noder \nhttps://www.letra.de/15-lesbisches-angertorstra%C3%9Fenfest-2021.html?lesbentelefon-e-v-letrc
URL:https://transmann.de/veranstaltung/tm-e-v-online-austausch-der-rg-muenchen-2021-07-03/
LOCATION:https://zoom.us/j/91095686962?pwd=djFIYUdEZkJvU3B1TzJUV2ZNSFhvQT09
CATEGORIES:Gruppentreffen einer Regionalgruppe,Online-Veranstaltung,Veranstaltung des TransMann e.V.
ATTACH;FMTTYPE=image/png:https://transmann.de/wp-content/uploads/2018/09/Stempel-RG_Muenchen.png
END:VEVENT
BEGIN:VEVENT
DTSTART;TZID=Europe/Berlin:20210703T200000
DTEND;TZID=Europe/Berlin:20210703T220000
DTSTAMP:20260423T153557
CREATED:20210703T080546Z
LAST-MODIFIED:20210703T080546Z
UID:10003394-1625342400-1625349600@transmann.de
SUMMARY:Fremdveranstaltung: 15. Lesbisches Angertor-Straßenfest
DESCRIPTION:Lesbisches Angertorstraßenfest 2021\, 03.07.\, 20-22:00 Uhr\n\nImmer mehr Menschen in Deutschland erhalten aktuell Corona-Impfungen\, die Inzidenzzahlen in München sinken. Trotz dieser erfreulichen Entwicklungen\, haben wir uns jedoch auch 2021 dazu entschieden\, das lesbische Angertorstraßenfest noch nicht wie gewohnt stattfinden zu lassen.\nNachdem das LA jedoch schon 2020 ersatzlos ausfiel\, wollten wir für dieses Jahr eine Alternative finden\, mit der wir trotzdem wieder zusammenkommen können\, gemeinsam anstoßen und feiern können – sicher und auch mit allen\, die zu Risikogruppen gehören. \nSchon wieder ein Video-Meeting? \nIst man online mit anderen Menschen in Interaktion\, fehlt manchmal die Flexibilität von Face-to-Face-Kommunikation. Kleingruppen können nicht gebildet werden\, räumlicher Abstand ist nicht gegeben.\nHier kommt eins der neuen Tools ins Spiel\, die genau dies lösen möchten und wir dieses Jahr für unser Straßenfest nutzen werden: Gather.town. \nVorteile von Gather.town \nMithilfe eines kleinen Avatars können sich die Teilnehmer*innen im virtuellen Raum bewegen. Erst\, wenn sich wenigstens zwei Personen räumlich nah kommen\, öffnet sich ein kleines Videochatfenster und man kann sich gegenseitig hören und sehen. Rückt man vom Gesprächspartner*innen räumlich ab\, schließt sich das Fenster wieder. So können sich immer wieder neue und flexible Gesprächsgruppen bilden. \nDie Einrichtungs-Möglichkeiten des Online-Raumes bietet viele Möglichkeiten Aktivitäten des Straßenfests online anzubieten. \nWir bereiten aktuell ein tolles Programm für Euch vor\, zu dem Ihr auch bald mehr erfahren werdet\, bleibt gespannt! \n„Schade\, dabei wären wir doch so gerne auch mal wieder raus auf die Straße gegangen…“ \nDas werden sich bestimmt viele von Euch jetzt denken und zu Recht! Wir denken dasselbe. Was haben wir für ein Glück\, dass es den tollen Dyke* March in München gibt! Schon 2019 endete die Demonstration des Dyke* Marches im Angertorstraßenfest. Dieses Jahr sind die Zeiten umgekehrt: zuerst gehts ab15:00 auf die Dyke*March-Radl-Demo und dann treffen wir uns alle auf dem LA! \nJa\, wir wissen\, dass es bestimmt nicht so unglaublich wird\, wie so viele Straßenfeste der letzten Jahre. Aber mit Besucher*innen-Begrenzungen und Abstandsregelungen\, wäre auch ein Straßenfest „in echt” nicht das Gleiche. Deswegen hoffen wir\, Ihr geduldet Euch mit uns noch etwas und trefft Euch dafür mit uns dieses Jahr eben digital! \nSo könnt auch Ihr dabei sein\n\nDie Teilnahme am Straßenfest ist natürlich wie auch in den Jahren zuvor kostenlos möglich\, wir würden uns jedoch auch sehr über eine kleine Spende freuen! Damit ermöglicht ihr weiterhin die Arbeit von der LeTRa Lesbenberatung\, dem Treffpunkt\, Fach- und Beratungsstelle Regenbogenfamilien\, sowie dem lesbisch-queeren Zentrum LeZ und dem Trägerverein hinter allem.\nFür die kostenlose Anmeldung findet ihr hier den Link:  https://www.letra.de/15-lesbisches-angertorstra%C3%9Fenfest-2021.html?lesbentelefon-e-v-letrc \nScrollt einfach bis fast an das Ende auf der Seite von LeTRa\, dort ihr das Formular zur kostenlosen Teilnahme und die Datenschutzhinweise. \nSobald ihr euch dort registriert habt\, bekommt ihr die Zugangsdaten per E-Mail zugeschickt. \nWir\, der TransMann e.V. sind mit einem virtuellen Stand mit dabei\, den dieses Jahr Alex S. betreuten wird.\nEr freut sich auf eure Besuche/Fragen.
URL:https://transmann.de/veranstaltung/fremdveranstaltung-15-lesbisches-angertor-strassenfest/
LOCATION:Deutschland
CATEGORIES:Fremdveranstaltung,Online-Veranstaltung
ATTACH;FMTTYPE=image/png:https://transmann.de/wp-content/uploads/2021/07/Angertor-Strassenfest-2021.png
END:VEVENT
BEGIN:VEVENT
DTSTART;TZID=Europe/Berlin:20210706T190000
DTEND;TZID=Europe/Berlin:20210706T210000
DTSTAMP:20260423T153557
CREATED:20210605T071229Z
LAST-MODIFIED:20210605T071229Z
UID:10003386-1625598000-1625605200@transmann.de
SUMMARY:Fremdveranstaltung: Ausstellung (I am not) Sensitive Content
DESCRIPTION:Liebe Freund*innen\, \nder CSD findet statt – jedenfalls in hybrider Form. Und dazu gehört wie jedes Jahr eine PrideWeek. Munich Kyiv Queer bietet 2021 eine Online-Vernissage an\, die sich mit Identitäts- und Körperfragen beschäftigt. \nLängst sind in unseren Gesellschaften darüber große Debatten entflammt\, die sich nur allzu oft in Hass gegenüber allem Andersartigen entladen. \nDie von Kateryna Pidhaina aus Kyjiw fürs Netz kuratierte Ausstellung lässt verschiedene\, auch queere Künstler*innen aus der Ukraine zu Wort kommen\, die sich mit dem Phänomen beschäftigen\, sei es in Zeichnungen\, mit Skulpturen\, Aquarellen und Fotos. \nMehr dazu erfahrt Ihr hier: https://munichkyivqueer.org/12893/i-am-not-sensitive-content/ \n->Dort findet ihr dann auch den Link zu Zoom! \nWir würden uns freuen\, Euch am Dienstag\, 6. Juli\, um 19 Uhr auf Zoom zu „(I am not) Sensitive Content“ begrüßen zu dürfen. Die Veranstaltung findet in deutscher\, ukrainischer und englischer Sprache statt. Die Ausstellung selbst wird auf einer eigenen Website zu sehen sein. \nFragen? Einfach melden \nEuer MKQ-Team \nUpdate 04.07.2021  \nKörperlichkeit\, die eigene Identität – längst sind in unseren Gesellschaften darüber große Debatten entflammt\, die sich nur allzu oft in Hass gegenüber allem Andersartigen entladen. Die von Kateryna Pidhaina aus Kyjiw kuratierte Online-Ausstellung „(I am not) Sensitive Content“\, zu deren Eröffnung am Dienstag\, 6. Juli\, 19 Uhr\, wir Euch heute nochmal ganz herzlich einladen wollen\, lässt verschiedene\, zum Teil queere\, Künstler*innen aus der Ukraine zu Wort kommen\, die sich mit dem Phänomen beschäftigen\, sei es in Zeichnungen\, mit Skulpturen\, Aquarellen und Fotos. \nDas Projekt widmet sich ganz konkret der Rolle\, den Chancen und der Tabuisierung der (eigenen) queeren Identität in der Kunst\, im echten Leben wie in den sozialen Medien. Wir fragen: \n1) Warum entscheiden sich Künstler*innen dafür\, das Thema LGBTIQ* in ihren Werken zu behandeln?\n2) Womit werden sie konfrontiert\, wenn sie damit arbeiten?\n3) Welche Rolle spielt queere Kunst in der Gesellschaft? \nWir treffen die vier Künstler*innen:  \nAnatoliy Belov\, der sich in seiner Arbeit intensiv mit Queerness\, Sexualität\, Homosexualität und Körperlichkeit beschäftigt.\nhttps://www.youtube.com/watch?v=Nmegv3WcigE \nMaria Kulikovska\, die mit ihren Zeichnungen\, ihren Skulpturen Themen wie Feminismus\, Weiblicher Körper und Aktionismus bearbeitet.\nhttps://www.youtube.com/watch?v=iqywHtG5vFk \nKinderalbum\, die mit Zeichnungen und Installationen über gleichgeschlechtliche Liebe\, soziale Rollen und Gender-Fragen reflektieren.\nhttps://instagram.com/iamkinderalbum?igshid=1sol5kk5h\n \nKateryna Ermolaeva\, die mittels Fotografie untersucht\, wie Identität entsteht. Sie spielt in ihren Werken mit visuellen und kulturellen Codes.\nhttps://www.youtube.com/watch?v=l8hI2w4n5HI&t=63s \nGrußworte sprechen: \nder Generalkonsul der Ukraine\, Yuri Yarmilko\, und Stadtrat Dominik Krause\, der wiederholt Oberbürgermeister Dieter Reiter beim Pride in Kyjiw vertreten hat. \nAlle Informationen zur Ausstellung auch hier:\nhttps://munichkyivqueer.org/12893/i-am-not-sensitive-content/ \nDie Vernissage findet im Rahmen der Münchner PrideWeek am Dienstag\, 6. Juli 2021\, um 19 Uhr (Münchner Zeit) in deutscher\, ukrainischer und englischer Sprache mit Unterstützung des CSD München und des Kulturreferates der Stadt München statt. Alle sind herzlich willkommen! Es ist keine Registrierung nötig\, einfach nur dem Link auf Zoom folgen: \nhttps://us06web.zoom.us/j/89468679327?pwd=RTNQRjd5UmxNV1ROWmtORlhyamVWQT09 \nWir freuen uns auf Euch!\nEuer Team von Munich Kyiv Queer
URL:https://transmann.de/veranstaltung/fremdveranstaltung-ausstellung-i-am-not-sensitive-content/
LOCATION:https://us06web.zoom.us/j/89468679327?pwd=RTNQRjd5UmxNV1ROWmtORlhyamVWQT09
CATEGORIES:Fremdveranstaltung,Online-Veranstaltung
ATTACH;FMTTYPE=image/jpeg:https://transmann.de/wp-content/uploads/2021/05/I-am-not-Sensitive-Content-scaled.jpg
END:VEVENT
END:VCALENDAR