BEGIN:VCALENDAR
VERSION:2.0
PRODID:-//TransMann e.V.® - ECPv6.15.20//NONSGML v1.0//EN
CALSCALE:GREGORIAN
METHOD:PUBLISH
X-WR-CALNAME:TransMann e.V.®
X-ORIGINAL-URL:https://transmann.de
X-WR-CALDESC:Veranstaltungen für TransMann e.V.®
REFRESH-INTERVAL;VALUE=DURATION:PT1H
X-Robots-Tag:noindex
X-PUBLISHED-TTL:PT1H
BEGIN:VTIMEZONE
TZID:Europe/Berlin
BEGIN:DAYLIGHT
TZOFFSETFROM:+0100
TZOFFSETTO:+0200
TZNAME:CEST
DTSTART:20200329T010000
END:DAYLIGHT
BEGIN:STANDARD
TZOFFSETFROM:+0200
TZOFFSETTO:+0100
TZNAME:CET
DTSTART:20201025T010000
END:STANDARD
BEGIN:DAYLIGHT
TZOFFSETFROM:+0100
TZOFFSETTO:+0200
TZNAME:CEST
DTSTART:20210328T010000
END:DAYLIGHT
BEGIN:STANDARD
TZOFFSETFROM:+0200
TZOFFSETTO:+0100
TZNAME:CET
DTSTART:20211031T010000
END:STANDARD
BEGIN:DAYLIGHT
TZOFFSETFROM:+0100
TZOFFSETTO:+0200
TZNAME:CEST
DTSTART:20220327T010000
END:DAYLIGHT
BEGIN:STANDARD
TZOFFSETFROM:+0200
TZOFFSETTO:+0100
TZNAME:CET
DTSTART:20221030T010000
END:STANDARD
END:VTIMEZONE
BEGIN:VEVENT
DTSTART;TZID=Europe/Berlin:20210602T194500
DTEND;TZID=Europe/Berlin:20210602T213000
DTSTAMP:20260425T142705
CREATED:20210406T162204Z
LAST-MODIFIED:20230114T044453Z
UID:10003377-1622663100-1622669400@transmann.de
SUMMARY:TM e.V. - Online-Austausch der RG Stuttgart
DESCRIPTION:Aufgrund der aktuellen Covid-19-Situation können wir immer noch keine Live-Treffen anbieten.\nAus diesem Grund veranstalten wir Online-Treffen über Zoom. \nMitgliedschaft im Verein ist nicht notwendig!
URL:https://transmann.de/veranstaltung/tm-e-v-online-austausch-der-rg-stuttgart/2021-06-02/
LOCATION:https://zoom.us/j/94024747557?pwd=R3lCRFBENWpEKzdHZkFXWW9hR1F3UT09
CATEGORIES:Gruppentreffen einer Regionalgruppe,Online-Veranstaltung,Veranstaltung des TransMann e.V.
ATTACH;FMTTYPE=image/png:https://transmann.de/wp-content/uploads/2018/09/Stempel-RG_Stuttgart.png
END:VEVENT
BEGIN:VEVENT
DTSTART;TZID=Europe/Berlin:20210605T150000
DTEND;TZID=Europe/Berlin:20210605T170000
DTSTAMP:20260425T142705
CREATED:20210406T170502Z
LAST-MODIFIED:20230114T044456Z
UID:10003382-1622905200-1622912400@transmann.de
SUMMARY:TM e.V. - Online-Austauschtreffen der RG Essen
DESCRIPTION:Aufgrund der aktuellen Covid-19 Situation kann leider kein Live-Treffen der Regionalgruppe Essen stattfinden.\nAls Alternative wird  eine Online-Treffen über Zoom angeboten. Jede/r kann daran teilnehmen\, eine Mitgliedschaft im Verein ist nicht zwingend notwendig. \nUnser Regionalgruppenleiter und Vorstandsmitglied Mario wird das Online-Treffen moderieren.
URL:https://transmann.de/veranstaltung/tm-e-v-online-austauschtreffen-der-rg-essen/2021-06-05/
LOCATION:https://zoom.us/j/99176064624?pwd=b3JISmdrZlNkU3FUcnhyblUvM0Vudz09
CATEGORIES:Gruppentreffen einer Regionalgruppe,Online-Veranstaltung,Veranstaltung des TransMann e.V.
END:VEVENT
BEGIN:VEVENT
DTSTART;TZID=Europe/Berlin:20210613T150000
DTEND;TZID=Europe/Berlin:20210613T170000
DTSTAMP:20260425T142705
CREATED:20210530T060531Z
LAST-MODIFIED:20230114T044457Z
UID:10003384-1623596400-1623603600@transmann.de
SUMMARY:Fremdveranstaltung: Online-Treffen des TM/TJ-Stammtisch Münster
DESCRIPTION:Am Sonntag\, den 13. Juni 2021 findet von 15 – 17 Uhr wieder ein Online-Treffen des TM/TJ-Stammtisches Münster statt.\nDieses Treffen moderiert Mikka aus Bremen. \nDer TM/TJ-Stammtisch Münster wurde 2005 gegründet und ist eine Selbsthilfegruppe für transidente (auch nonbinäre) Menschen mit Identität eher männlich\, Transmänner/Transjungen (Frau-zu-Mann)\, Intersexuelle mit Identität eher männlich. Begleitpersonen sind nach Absprache bei Notwendigkeit oder Minderjährigkeit natürlich auch willkommen.\nGefördert von allen Krankenkassen \nCoronabedingt finden momentan nur Online-Treffen statt. \nInteressierte können eine E-Mail an kontakt@t-i-ms.de  und bekommen dann den Link für jit.si zugeschickt.
URL:https://transmann.de/veranstaltung/fremdveranstaltung-online-treffen-des-tm-tj-stammtisch-muenster/
LOCATION:Deutschland
CATEGORIES:Fremdveranstaltung
ATTACH;FMTTYPE=image/jpeg:https://transmann.de/wp-content/uploads/2021/05/TIMS_Logo_m2.jpg
END:VEVENT
BEGIN:VEVENT
DTSTART;TZID=Europe/Berlin:20210614T190000
DTEND;TZID=Europe/Berlin:20210614T200000
DTSTAMP:20260425T142705
CREATED:20210611T024825Z
LAST-MODIFIED:20210611T024825Z
UID:10003392-1623697200-1623700800@transmann.de
SUMMARY:Fremdveranstaltung: Buchpremiere - Das schönste Kleid der Welt
DESCRIPTION:Buchpremiere: Das schönste Kleid der Welt! Ein Kinderbuch zum Thema Trans* ab 4 Jahre \nLiebe Menschen\, Kolleg*innen\, Unterstützer*innen\, Freund*innen und Multiplikator*innen! \nEs ist geschafft! \nDas Projekt 100% MENSCH präsentiert sein erstes Kinderbuch zum Thema Trans*: „Das schönste Kleid der Welt“ ist die Geschichte von Anna\, die von allen „Paul“ genannt wird\, weil niemand weiss\, dass sie ein Mädchen ist. \nWir möchten mit Euch feiern und laden Euch daher zu einer kleinen Online-Premiere ein. Wir sprechen über die Entstehung des Textes\, der Bilder\, der Geschichte dahinter und über die Notwendigkeit für solche Bücher. \nZu Gast sind:\nKai D. Janik – der Künstler des Buches\nPetra Weitzel – dgti e.V.\nKalle Hümpfner – Bundesverband Trans* e.V.\nIsabelle Melcher – TTI- Beratung Ulm\nBettina Schreck – Projekt 100% MENSCH\nHolger Edmaier – Projekt 100% MENSCH \nNatürlich wird es auch eine Live-Lesung des Buches geben! \nWir freuen uns auf Euch und Eure Fragen! Feiert mit uns 🙂 \nDie Veranstaltung findet online statt und ist über Facebook (https://www.facebook.com/100ProzentMensch) \nund YouTube (https://www.youtube.com/100promensch) \nWeitere Informationen zum Buch gibt es auf: https://www.dasschoenstekleidderwelt.de/ \nEuer 100%-Mensch Team
URL:https://transmann.de/veranstaltung/fremdveranstaltung-buchpremiere-das-schoenste-kleid-der-welt/
LOCATION:Deutschland
CATEGORIES:Fremdveranstaltung,Online-Veranstaltung
ATTACH;FMTTYPE=image/png:https://transmann.de/wp-content/uploads/2021/06/Das-schoenste-Kleid-der-Welt.png
END:VEVENT
BEGIN:VEVENT
DTSTART;TZID=Europe/Berlin:20210619T150000
DTEND;TZID=Europe/Berlin:20210619T170000
DTSTAMP:20260425T142705
CREATED:20210605T070259Z
LAST-MODIFIED:20210605T070259Z
UID:10003389-1624114800-1624122000@transmann.de
SUMMARY:TM e.V. - Livetreffen (Zusatztermin) der RG Essen
DESCRIPTION:Das Gesundheitsamt Essen lässt es wieder zu\, dass sich die Gruppen wieder treffen dürfen und somit wieder ihre Aktivitäten ins normale und reelle Leben aufnehmen dürfen.\n\nFür den 19. Juni\, ab 15 Uhr\, ist ein außerplanmäßiges Treffen in der Aidshilfe geplant.\nFür die zukünftigen Treffen sind\, bis auf weiteres\, leider folgende Regeln zu beachten:\n\n\n\nMax. 10 Leute\n\n\nMaske beim bewegen im Gebäude (am Sitzplatz darf sie abgenommen werden)\n\n\n(Nachweis von Geimpft\, Getestet oder Genesen)\nBei  Geimpft gilt: 2. Impfung muss  15 Tage her sein (bei Johnson & Johnson reicht 1. Impfung) \nBei Genesen gilt: Mind. 28 Tage her und nicht älter als 6 Monate. \n\n\nEinchecken mit der Corona WarnApp oder analoge Eintragung in die Papierliste zur Kontaktnachverfolgung\n\n\n\nWer an dem Gruppentreffen teilnehmen möchte\, bitte unten über „Reservieren“ anmelden. Es gibt eine begrenzte Teilnehmer*innenzahl!  \n\nMario\,  freut sich schon sehr euch wieder persönlich vor Ort begrüßen zu dürfen.\n\nUpdate 14.06.2021 Aufgrund des aktuell niedrigen Inzidenzwertes\, hat das Gesundheitsamt Essen die Testpflicht aufgehoben. \nDa sich das aber jederzeit wieder ändern kann\, schadet es nicht\, falls ihr einen Nachweis habt\, wenn ihr den für den Notfall dabei habt.
URL:https://transmann.de/veranstaltung/livetreffen_rg_essen_9957/
LOCATION:Deutschland
CATEGORIES:Gruppentreffen einer Regionalgruppe,Veranstaltung des TransMann e.V.
END:VEVENT
BEGIN:VEVENT
DTSTART;TZID=Europe/Berlin:20210625T193000
DTEND;TZID=Europe/Berlin:20210625T210000
DTSTAMP:20260425T142705
CREATED:20210605T075806Z
LAST-MODIFIED:20230114T044500Z
UID:10003391-1624649400-1624654800@transmann.de
SUMMARY:Fremdveranstaltung: Trans* & Friends - Münchens Chor für Trans* und Allies
DESCRIPTION:Trans* & Friends ist ein Münchner Chor für Trans* und Allies der einfach Spaß am singen hat. \nEs geht darum herauszufinden wo bei jedem seine Wohlfühlstimme liegt  – denn JEDER MENSCH KANN SINGEN!\nAlle\, egal ob trans*\, inter*\, nicht-binär oder cis\, erfahrene*r Sänger*in oder Neuanfänger*in – jede*r ist herzlich willkommen. \nWir singen alles Mögliche\, von Pop über Musical bis hin zu Volksliedern\, Klassik und Kirchenmusik. Jede*r darf etwas vorschlagen. \nDer Chor wird geleitet von Beatrice Greisinger (Gesangspädagogin\, Gesangsstudium an der Musikhochschule München). \nBei Fragen\, richtet euch bitte an Adrian\, er  wird dich über alles weitere wie z.B.  Corona-Regeln etc. informieren.\nAktuell dürfen  aufgrund der Covid-Regelung 12 Personen teilnehmen.
URL:https://transmann.de/veranstaltung/trans-friends-muenchens-chor-fuer-trans-und-allies/2021-06-25/
LOCATION:Deutschland
CATEGORIES:Freizeitaktivität,Fremdveranstaltung
ATTACH;FMTTYPE=image/png:https://transmann.de/wp-content/uploads/2020/01/TransFriends_klein.png
END:VEVENT
END:VCALENDAR