BEGIN:VCALENDAR
VERSION:2.0
PRODID:-//TransMann e.V.® - ECPv6.15.20//NONSGML v1.0//EN
CALSCALE:GREGORIAN
METHOD:PUBLISH
X-ORIGINAL-URL:https://transmann.de
X-WR-CALDESC:Veranstaltungen für TransMann e.V.®
REFRESH-INTERVAL;VALUE=DURATION:PT1H
X-Robots-Tag:noindex
X-PUBLISHED-TTL:PT1H
BEGIN:VTIMEZONE
TZID:Europe/Berlin
BEGIN:DAYLIGHT
TZOFFSETFROM:+0100
TZOFFSETTO:+0200
TZNAME:CEST
DTSTART:20200329T010000
END:DAYLIGHT
BEGIN:STANDARD
TZOFFSETFROM:+0200
TZOFFSETTO:+0100
TZNAME:CET
DTSTART:20201025T010000
END:STANDARD
BEGIN:DAYLIGHT
TZOFFSETFROM:+0100
TZOFFSETTO:+0200
TZNAME:CEST
DTSTART:20210328T010000
END:DAYLIGHT
BEGIN:STANDARD
TZOFFSETFROM:+0200
TZOFFSETTO:+0100
TZNAME:CET
DTSTART:20211031T010000
END:STANDARD
BEGIN:DAYLIGHT
TZOFFSETFROM:+0100
TZOFFSETTO:+0200
TZNAME:CEST
DTSTART:20220327T010000
END:DAYLIGHT
BEGIN:STANDARD
TZOFFSETFROM:+0200
TZOFFSETTO:+0100
TZNAME:CET
DTSTART:20221030T010000
END:STANDARD
END:VTIMEZONE
BEGIN:VEVENT
DTSTART;TZID=Europe/Berlin:20210402T190000
DTEND;TZID=Europe/Berlin:20210402T213000
DTSTAMP:20260425T180108
CREATED:20210302T161919Z
LAST-MODIFIED:20230114T044449Z
UID:10003360-1617390000-1617399000@transmann.de
SUMMARY:TM e.V. - Online-Austauschtreffen der Regionalgruppe Köln
DESCRIPTION:TM e.V. – Online-Austauschtreffen der Regionalgruppe Köln\n\n\nAufgrund der aktuellen Covid-19 Situation kann leider kein Live-Treffen der Regionalgruppe Köln stattfinden.\nAls Alternative wird ein Online-Treffen über Zoom angeboten.\nJede/r kann daran teilnehmen\, eine Mitgliedschaft im Verein ist nicht zwingend notwendig. \nUnser Regionalgruppenleiter Aurelius wird das Online-Treffen moderieren.
URL:https://transmann.de/veranstaltung/tm-e-v-online-austauschtreffen-der-regionalgruppe-koeln/2021-04-02/
LOCATION:https://zoom.us/j/95608240643?pwd=bmxiMGNJMHBzeFNOUHBMb3VuOW1MZz09
CATEGORIES:Gruppentreffen einer Regionalgruppe,Online-Veranstaltung,Veranstaltung des TransMann e.V.
ATTACH;FMTTYPE=image/png:https://transmann.de/wp-content/uploads/2018/09/Stempel-RG_Koeln.png
END:VEVENT
BEGIN:VEVENT
DTSTART;TZID=Europe/Berlin:20210403T150000
DTEND;TZID=Europe/Berlin:20210403T173000
DTSTAMP:20260425T180108
CREATED:20210113T135806Z
LAST-MODIFIED:20230114T044441Z
UID:10003341-1617462000-1617471000@transmann.de
SUMMARY:TM e.V. - Online-Austauschtreffen der Regionalgruppe Essen
DESCRIPTION:Aufgrund der aktuellen Covid-19 Situation kann leider kein Live-Treffen der Regionalgruppe Essen stattfinden.\nAls Alternative wird  eine Online-Treffen über Zoom angeboten. Jede/r kann daran teilnehmen\, eine Mitgliedschaft im Verein ist nicht zwingend notwendig. \nUnser Regionalgruppenleiter und Vorstandsmitglied Mario wird das Online-Treffen moderieren. \nEs handelt sich hier um einen Serientermin\, den wir jetzt erst einmal bis Ende April 2021 laufen lassen.\nWenn es die Covid-19 Situation veranlasst\, werden wir diese Serie ggf. verlängern oder gar verkürzen.
URL:https://transmann.de/veranstaltung/tm-e-v-online-austauschtreffen-der-regionalgruppe-essen/2021-04-03/
LOCATION: https://zoom.us/j/99922102718?pwd=c3ppK1lSU0tTbkd0UEYySzdBZmNUdz09
CATEGORIES:Gruppentreffen einer Regionalgruppe,Veranstaltung des TransMann e.V.
END:VEVENT
BEGIN:VEVENT
DTSTART;TZID=Europe/Berlin:20210408T190000
DTEND;TZID=Europe/Berlin:20210408T203000
DTSTAMP:20260425T180108
CREATED:20201110T104246Z
LAST-MODIFIED:20230114T044436Z
UID:10003322-1617908400-1617913800@transmann.de
SUMMARY:Öffentliche Vorstandssitzung TransMann e.V.
DESCRIPTION:Bei dieser Vorstandssitzung des TransMann e.V. sind unsere Vereinsmitglieder herzlichst eingeladen.\nEs können Fragen rund um den Verein gestellt werden\, welche dann  vom Vorstand beantwortet
URL:https://transmann.de/veranstaltung/oeffentliche-vorstandssitzung-transmann-e-v/2021-04-08/
LOCATION:https://zoom.us/j/91531615016?pwd=c24zeUpINEwxMjVPUWtNUjlUQ09MZz09
CATEGORIES:Öffentliche Vorstandssitzung,Veranstaltung des TransMann e.V.
ATTACH;FMTTYPE=image/png:https://transmann.de/wp-content/uploads/2014/01/images_Bilder_Vereinsartikel_Button_3.png
END:VEVENT
BEGIN:VEVENT
DTSTART;TZID=Europe/Berlin:20210411T100000
DTEND;TZID=Europe/Berlin:20210411T123000
DTSTAMP:20260425T180108
CREATED:20210402T181606Z
LAST-MODIFIED:20210402T181606Z
UID:10003367-1618135200-1618144200@transmann.de
SUMMARY:2. Online-Vortrag zum Thema: Geschlechtsangleichende Operationen beim Frau-zu-Mann Trans*Personen (Dr. med. H. Schöll München)
DESCRIPTION:Wir freuen uns\, dass  Dr. med. H. Schöll aus München seinen Online-Vortrag zum Thema „Geschlechtsangleichende Operationen bei FzM-Trans-Personen“ nochmals am  Sonntag\, den 11.04.2021 von 10:00 bis ca. 12:30 Uhr  wiederholen wird.\nEr wird die Techniken der geschlechtsangleichenden Operationen zur Maskulinisierung bei Frau-zu-Mann Trans*Personen berichten\, die er und Frau Dr. Morath im Rotkreuz Klinikum München anbieten vorstellen.\n\nFragen können über den F&A Bereich gerne gestellt werden.\n\nAnmeldung/Registrierung ist notwendig\, da bei diesem Webinar die Teilnehmer*innenzahl begrenzt ist.
URL:https://transmann.de/veranstaltung/2-online-vortrag-zum-thema-geschlechtsangleichende-operationen-beim-frau-zu-mann-transpersonen-dr-med-h-schoell-muenchen/
LOCATION:https://zoom.us/webinar/register/WN_UITyCG8TRHWbDKeGZWonYA
CATEGORIES:Online-Veranstaltung,Online-Vortrag
ATTACH;FMTTYPE=image/jpeg:https://transmann.de/wp-content/uploads/2017/11/Transmann-Schriftzug_outline.jpg
END:VEVENT
BEGIN:VEVENT
DTSTART;TZID=Europe/Berlin:20210411T140000
DTEND;TZID=Europe/Berlin:20210411T153000
DTSTAMP:20260425T180108
CREATED:20210402T174231Z
LAST-MODIFIED:20210402T174231Z
UID:10003366-1618149600-1618155000@transmann.de
SUMMARY:Online-Vortrag: Entfernung der weiblichen Geschlechtsorgane (Hysterektomie etc.) sowie Vorsorgeuntersuchungen bei Frau-zu-Mann-Trans* (Prof. Dr. med. J. Schwarz)
DESCRIPTION:Wir freuen uns sehr\, dass Herr Prof. Dr. J. Schwarz\, Chefarzt der Frauenklinik am Krankenhaus Reinbek St. Adolf-Stift uns als Referent für einen weiteren Online-Vortag zur Verfügung steht. \nAm Sonntag\, den 11. April 2021 on 14:00 bis ca. 15:30 Uhr wird er zu folgendem Thema referieren: \n„Entfernung der weiblichen Geschlechtsorgane (Hysterektomie etc.) sowie Vorsorgeuntersuchungen bei Frau-zu-Mann-Trans*“ \nFragen können gerne wieder über den F&A Bereich gestellt werden. \nAnmeldung/Registrierung ist notwendig\, da bei diesem Webinar die Teilnehmer*innenzahl begrenzt ist.
URL:https://transmann.de/veranstaltung/online-vortrag-entfernung-der-weiblichen-geschlechtsorgane-hysterektomie-etc-sowie-vorsorgeuntersuchungen-bei-frau-zu-mann-trans/
LOCATION:https://zoom.us/webinar/register/WN_dfRZXssSR6WsOuD5wQ6xog
CATEGORIES:Online-Veranstaltung,Online-Vortrag
ATTACH;FMTTYPE=image/jpeg:https://transmann.de/wp-content/uploads/2017/11/Transmann-Schriftzug_outline.jpg
END:VEVENT
BEGIN:VEVENT
DTSTART;TZID=Europe/Berlin:20210426T100000
DTEND;TZID=Europe/Berlin:20210426T120000
DTSTAMP:20260425T180108
CREATED:20210417T052747Z
LAST-MODIFIED:20210417T052747Z
UID:10003383-1619431200-1619438400@transmann.de
SUMMARY:Fremdveranstaltung: Trans*Senior*innen in Berlin - Vortrag und Workshop mit Max Appenroth
DESCRIPTION:Trans* Senior*innen in Berlin – Wo stehen wir heute und wo soll es hingehen? \nVortrag und Workshop mit Max Appenroth \nam Montag\, 26.04.2021\, 10:00 – 12:00 Uhr per Videokonferenz \nSehr geehrte Interessierte\,\nes ist wenig über die Auswirkungen des Alterns auf Menschen bekannt\, die sich nicht mit ihrem bei der Geburt zugewiesenen Geschlecht identifizieren und/oder nicht in die stereotypen binären Geschlechternormen von weiblich und männlich passen. Daher möchten wir Sie herzlich zur Präsentation der von der Fachstelle LSBTI*\, Altern und Pflege in Auftrag gegebenen Expertise zur Situation älterer trans* Personen in Berlin einladen. Max Appenroth\, trans*-Aktivist\, Wissenschaftler und Diversity Consultant\, der die Expertise erstellt hat\, stellt die Ergebnisse vor. \nDie erste Berliner Expertise zu diesem Themenschwerpunkt thematisiert u.a. folgende Fragen: \n\nWie erleben ältere trans* Personen den Alltag?\nWelche Hürden gibt es für sie in Berlin im Hinblick auf Teilhabe und Mitwirkung?\nWie ergeht es kranken und pflegebedürftigen trans* Menschen?\nGibt es geeignete Unterstützungsangebote?\nWas soll sich verbessern? Was ist dafür notwendig?\n\nIm Anschluss möchten wir mit Ihnen diskutieren\, was geschehen muss\, damit Vielfalt in unserer Stadt überall sichtbar und lebendig wird und auch ältere trans* Personen sagen können: Endlich werden wir verstanden! \nFür die Anmeldung bis spätestens 23.04.2021 nutzen sie bitte  folgenden Link: \nhttps://app.guestoo.de/public/event/752a3411-15d6-4aba-b8ec-9c8bb6010c17 \nBei Fragen wenden Sie sich bitte an Eva Obernauer \nE-Mail: e.obernauer@schwulenberatungberlin.de \nTel: 030 44 66 88 125 \nWir freuen uns auf Ihre Teilnahme! \n  \nDas Team der Fachstelle LSBTI*\, Altern und Pflege \n  \nDie von der _Landestelle für Gleichbehandlung – gegen Diskriminierung_ geförderte Fachstelle LSBTI*\, Altern und Pflege versteht sich als Brücke zwischen den LSBTI*-Communities und den in Berlin mit Altern und Pflege befassten Menschen\, Institutionen und Verwaltungen.
URL:https://transmann.de/veranstaltung/fremdveranstaltung-transseniorinnen-in-berlin-vortrag-und-workshop-mit-max-appenroth/
LOCATION:https://app.guestoo.de/public/event/752a3411-15d6-4aba-b8ec-9c8bb6010c17
CATEGORIES:Fremdveranstaltung,Online-Veranstaltung,Online-Vortrag
ATTACH;FMTTYPE=image/jpeg:https://transmann.de/wp-content/uploads/2021/04/Schriftzug-Fachstelle-Altern-und-Pflege-Minze-klein.jpg
END:VEVENT
END:VCALENDAR