BEGIN:VCALENDAR
VERSION:2.0
PRODID:-//TransMann e.V.® - ECPv6.15.20//NONSGML v1.0//EN
CALSCALE:GREGORIAN
METHOD:PUBLISH
X-WR-CALNAME:TransMann e.V.®
X-ORIGINAL-URL:https://transmann.de
X-WR-CALDESC:Veranstaltungen für TransMann e.V.®
REFRESH-INTERVAL;VALUE=DURATION:PT1H
X-Robots-Tag:noindex
X-PUBLISHED-TTL:PT1H
BEGIN:VTIMEZONE
TZID:Europe/Berlin
BEGIN:DAYLIGHT
TZOFFSETFROM:+0100
TZOFFSETTO:+0200
TZNAME:CEST
DTSTART:20250330T010000
END:DAYLIGHT
BEGIN:STANDARD
TZOFFSETFROM:+0200
TZOFFSETTO:+0100
TZNAME:CET
DTSTART:20251026T010000
END:STANDARD
BEGIN:DAYLIGHT
TZOFFSETFROM:+0100
TZOFFSETTO:+0200
TZNAME:CEST
DTSTART:20260329T010000
END:DAYLIGHT
BEGIN:STANDARD
TZOFFSETFROM:+0200
TZOFFSETTO:+0100
TZNAME:CET
DTSTART:20261025T010000
END:STANDARD
BEGIN:DAYLIGHT
TZOFFSETFROM:+0100
TZOFFSETTO:+0200
TZNAME:CEST
DTSTART:20270328T010000
END:DAYLIGHT
BEGIN:STANDARD
TZOFFSETFROM:+0200
TZOFFSETTO:+0100
TZNAME:CET
DTSTART:20271031T010000
END:STANDARD
END:VTIMEZONE
BEGIN:VEVENT
DTSTART;TZID=Europe/Berlin:20260418T160000
DTEND;TZID=Europe/Berlin:20260418T180000
DTSTAMP:20260420T104319
CREATED:20260417T181135Z
LAST-MODIFIED:20260418T082032Z
UID:10004634-1776528000-1776535200@transmann.de
SUMMARY:TM e.V. – Gruppentreffen der RG München
DESCRIPTION:An jedem 3. Samstag im Monat bieten wir ein Austauschtreffen von 16:00 bis 18:00 Uhr vor Ort in den Räumen des Selbsthilfezentrum München\, in der Westendstr. 68 an.\nIm Anschluss an das Treffen besteht die Möglichkeit noch zum weiteren Austausch bei einem gemütlichen Ausklang in einem nahegelegenen Lokal. \nThemenvorschlag: offener Austausch zu trans* relevanten Themen und Fragen der Teilnehmenden.\nHier steht euer Austausch im Mittelpunkt – bringt alles mit\, was euch beschäftigt. \nOptional (je nach Zeit):\nIdeensammlung für unsere Aktionen beim CSD München 2026\nMotto dieses Jahr: „Unsere Vielfalt. Unsere Stärke.“ \n\nAchtung – kurzfristige Änderungen behalten wir uns vor.\n \nWer ist willkommen: \n\nAlle\, FzM/FtM trans*\, inter*\, nicht-binäre und queere Personen\, die sich mit ihrem Geburtsgeschlecht “weiblich” nicht oder nur zum Teil beschrieben fühlen.\nAlle Partner*innen\,  Angehörige und Interessierte\, die mehr über das Thema  erfahren möchten\nUnabhängig ob man noch ganz am Anfang steht oder schon seit Jahren dabei ist\nDas Alter spielt keine Rolle\nManchmal bieten wir ein Hybrid-Treffen (Vor Ort und Online) an.\nBei diesen Treffen können sich alle\, die z.b. aus gesundheitlichen Gründen (z.B. Erkältungssymptomen\, Covid-19\, Post-OP etc. )\, eines gerade stattfindenden Krankenhausaufenthaltes oder aufgrund der Entfernung nicht persönlich teilnehmen können\, online einwählen und so an dem Treffen teilnehmen.\nOb es sich um ein Live-Treffen oder ein Hybrid-Treffen handelt\, steht im Kalender.\n\nUm unsere Treffen interessanter zu gestalten\, versuchen wir Themenvorschläge etc. anzubieten.\nDiese sind kein Muss – es wird immer genügend Raum und Zeit auch für die persönlichen Anliegen und Fragen zu geben.\nWenn du einen Themenwunsch hast\, kannst du uns diesen gerne vorab per E-Mail an muenchen [ @ ] transmann.de senden!\nWir versuchen so gut es geht einen sicheren\, diskriminierungsfreien  Raum für alle Teilnehmenden zu bieten\, daher ist uns ein respektvoller Umgang wichtig. \nBen\, Jonas und Christian \, unsere Regionalgruppenleiter freuen uns auf euch. \n  \n 
URL:https://transmann.de/veranstaltung/tm-e-v-gruppentreffen-der-rg-muenchen-13/
LOCATION:SHZ München\, Westendstraße 68\, München\, 80339\, Deutschland
CATEGORIES:Gruppentreffen einer Regionalgruppe,Veranstaltung des TransMann e.V.
ATTACH;FMTTYPE=image/png:https://transmann.de/wp-content/uploads/2018/09/Stempel-RG_Muenchen.png
ORGANIZER;CN="TransMann e.V. Regionalgruppe M%C3%BCnchen":MAILTO:muenchen@transmann.de
GEO:48.1383156;11.540382
X-APPLE-STRUCTURED-LOCATION;VALUE=URI;X-ADDRESS=SHZ München Westendstraße 68 München 80339 Deutschland;X-APPLE-RADIUS=500;X-TITLE=Westendstraße 68:geo:11.540382,48.1383156
END:VEVENT
END:VCALENDAR